BEGIN:VCALENDAR
VERSION:2.0
PRODID:-//grazjazz - ECPv5.8.2//NONSGML v1.0//EN
CALSCALE:GREGORIAN
METHOD:PUBLISH
X-WR-CALNAME:grazjazz
X-ORIGINAL-URL:https://www.grazjazz.at
X-WR-CALDESC:Veranstaltungen für grazjazz
BEGIN:VTIMEZONE
TZID:Europe/Berlin
BEGIN:DAYLIGHT
TZOFFSETFROM:+0100
TZOFFSETTO:+0200
TZNAME:CEST
DTSTART:20240331T010000
END:DAYLIGHT
BEGIN:STANDARD
TZOFFSETFROM:+0200
TZOFFSETTO:+0100
TZNAME:CET
DTSTART:20241027T010000
END:STANDARD
END:VTIMEZONE
BEGIN:VEVENT
DTSTART;TZID=Europe/Berlin:20241115T193000
DTEND;TZID=Europe/Berlin:20241115T193000
DTSTAMP:20260423T205257
CREATED:20240814T085714Z
LAST-MODIFIED:20241008T135513Z
UID:5817-1731699000-1731699000@www.grazjazz.at
SUMMARY:BERNDT LUEF TRIO
DESCRIPTION:Berndt Luef – vibraphone\nThorsten Zimmermann – bass\nViktor Palic – drums \nTickets: Euro 10\,00 \n\nDer Kartenpreis ist am Tag der Veranstaltung am Empfang zu entrichten. Freier Eintritt für Kinder und Jugendliche bis 18 Jahren. \n\n⇒ Reservierung \n 
URL:https://www.grazjazz.at/event/berndt-luef-trio-5/
LOCATION:Stieglerhaus\, St.Stefan ob Stainz
CATEGORIES:Berndt Luef
ATTACH;FMTTYPE=image/jpeg:https://www.grazjazz.at/wp-content/uploads/2023/05/Berndt-Luef-Trio-Peter-Purgar.jpg
ORGANIZER;CN="Berndt%20Luef":MAILTO:luef@mur.at
END:VEVENT
END:VCALENDAR