BEGIN:VCALENDAR
VERSION:2.0
PRODID:-//grazjazz - ECPv5.8.2//NONSGML v1.0//EN
CALSCALE:GREGORIAN
METHOD:PUBLISH
X-WR-CALNAME:grazjazz
X-ORIGINAL-URL:https://www.grazjazz.at
X-WR-CALDESC:Veranstaltungen für grazjazz
BEGIN:VTIMEZONE
TZID:Europe/Berlin
BEGIN:DAYLIGHT
TZOFFSETFROM:+0100
TZOFFSETTO:+0200
TZNAME:CEST
DTSTART:20260329T010000
END:DAYLIGHT
BEGIN:STANDARD
TZOFFSETFROM:+0200
TZOFFSETTO:+0100
TZNAME:CET
DTSTART:20261025T010000
END:STANDARD
END:VTIMEZONE
BEGIN:VEVENT
DTSTART;TZID=Europe/Berlin:20260610T200000
DTEND;TZID=Europe/Berlin:20260610T200000
DTSTAMP:20260424T053310
CREATED:20251202T120027Z
LAST-MODIFIED:20251202T121514Z
UID:7370-1781121600-1781121600@www.grazjazz.at
SUMMARY:DARKER THAN BLACK
DESCRIPTION:open music presents \nLore Binon – soprano\,\nEva Reiter – viola da gamba\,\nTom Pauwels – e-guitar\, acoustic guitar \nPROGRAMM\nJürg Frey aus: 50 sächelchen: Abendlied (1989)\nJohn Dowland aus: The Second Book of Songs or Ayres: Mourn\, mourn\, day is with darkness fled (1600)\nJohn Dowland aus: The Dowland Lute Book: What if a day (1610)\nArthur Lavandier Prélude (2019)\nArthur Lavandier My naked lady framed (2013)\nTobias Hume aus: Captaine Humes Poeticall Musicke: What greater grief (1607)\nTobias Hume aus: Musicall Humors: Loves farewell (1605)\nWolfgang Mitterer Mourn\, mourn (2013)\nJürg Frey aus: 50 sächelchen: Cadillac (1989)\nBernhard Gander Darkness awaits us (2013)\nThomas Campion aus: The First Book of Ayres: All looks be pale (1613)\nEva Reiter My iron-spurred lady (2018)\nJohn Dowland aus: The Third and Last Booke of Songs or Aires: Time stands still (1603)\nStephen Goodall aus: The Manchester Lyra-Viol Manuscript: [Untitled] (1650)\nEva Reiter Such dimmest light as never (2021)\nFrancesco Filidei … and here they do not (2014)\nJürg Frey aus: 50 sächelchen: No. 32 (1989)\nBurkhard Stangl Nights (2009)\nBurkhard Stangl With you (2009) \n>>> Programminformationen zum Download \nWas geschieht\, wenn die Zeit stillsteht? Oder: Was wäre möglich\, wenn Zeit in unserem Leben keine Rolle mehr spielte? Die Frage ist natürlich naiv\, aber doch sehr verführerisch. Es gäbe kein Gestern\, Heute oder Morgen. Und ein so wunderbar farbiges Stück wie „Time stands still“ könnte endlos hin- und herwabern – wie Algen\, die vom Meer bewegt werden und nie innehalten… (Eva Reiter) \nNoch ist es zu früh für den Winter-Blues – umso leichter kann er an den hellsten Tagen des Jahres thematisiert werden. Schwermut\, Melancholie\, dunkle Emotionen\, all das beschäftigt die Menschheit seit Gedenken\, in der Renaissance entstand ein richtiger Hype um Melancholia\, den personifizierten Trübsinn\, um unerwiderte Liebe\, Krankheiten\, Tod etc. Den unterschiedlichen Ausprägungen von Betrübtheit geht die Komponistin und Gambistin Eva Reiter mit ihren famosen Mitstreiter°innen also in ihrem Programm „Darker Than Black“ nach und verbindet darin Klänge der Vergangenheit mit teils speziell für dieses Programm komponierten zeitgenössischen Werken. \nDas Museum der Wahrnehmung bietet dafür den idealen Rahmen (und wird im November des Jahres nochmals ein „open music“-Programm in seinen Seh- und Klangraum aufnehmen\, das eine Verbindung zwischen Alter und zeitgenössischer Musik schafft). \nLINKS\nLore Binon\nEva Reiter\nTom Pauwels \nTICKETS\n€ 18 | € 12* | € 7** \n* SchülerInnen\, StudentInnen\, Präsenz-/ZivildienerInnen und Arbeitslose mit gültigem Ausweis\n** MusikstudentInnen mit gültigem Ausweis an der Abendkassa\n*** Eintritt frei für Hunger auf Kunst & Kultur an der Abendkassa ab 15 Minuten vor Konzertbeginn \nAbendkassa\nDie Abendkassa öffnet 30 Minuten vor Konzertbeginn \nReservierungen\nE-Mail
URL:https://www.grazjazz.at/event/darker-than-black/
LOCATION:MUWA\, Friedrichgasse 41\, Graz\, 8010
CATEGORIES:2026,open music
ATTACH;FMTTYPE=image/jpeg:https://www.grazjazz.at/wp-content/uploads/2025/12/Eva_Reiter.jpg
ORGANIZER;CN="open%20music":MAILTO:ute.pinter@openmusic.at
END:VEVENT
END:VCALENDAR