BEGIN:VCALENDAR
VERSION:2.0
PRODID:-//grazjazz - ECPv5.8.2//NONSGML v1.0//EN
CALSCALE:GREGORIAN
METHOD:PUBLISH
X-WR-CALNAME:grazjazz
X-ORIGINAL-URL:https://www.grazjazz.at
X-WR-CALDESC:Veranstaltungen für grazjazz
BEGIN:VTIMEZONE
TZID:Europe/Berlin
BEGIN:DAYLIGHT
TZOFFSETFROM:+0100
TZOFFSETTO:+0200
TZNAME:CEST
DTSTART:20240331T010000
END:DAYLIGHT
BEGIN:STANDARD
TZOFFSETFROM:+0200
TZOFFSETTO:+0100
TZNAME:CET
DTSTART:20241027T010000
END:STANDARD
END:VTIMEZONE
BEGIN:VEVENT
DTSTART;TZID=Europe/Berlin:20240403T200000
DTEND;TZID=Europe/Berlin:20240403T200000
DTSTAMP:20260421T152733
CREATED:20231124T112758Z
LAST-MODIFIED:20240401T083925Z
UID:4942-1712174400-1712174400@www.grazjazz.at
SUMMARY:Ensemble Kompopolex
DESCRIPTION:open music presents \nRafał Łuc – accordion\, performer\nAleksandra Gołaj – percussion\, performer\nJacek Sotomski – electronics\, bass guitar\, performer \nPROGRAMM\nMonika Szpyrka Angle of reflection\, for percussion\, bass guitar\, accordion\, audio playback (2022\, ÖEA)\nMartin A. Hirsti-Kvam Memory Box #2\, for three performes\, video\, electronics (2023\, ÖEA)\nJacek Sotomski Pepe is Pepe is Pepe\, for free players (2017\, ÖEA)\nKatarina Gryvul chasm\, for accordion\, sampler\, electronics (2023\, ÖEA)\nNeo Hülcker we speak\, for three performers (2019)\nRafał Ryterski Breathe\, for 3 performers and electronics (2021\, ÖEA) \nEnsemble Kompopolex mit Homebase in Breslau\, Polen\, ist ein auf zeitgenössische Musik spezialisiertes Trio. Die Musiker setzen sich in erster Linie für neue\, engagierte\, mutige Stücke ein und tauschen dabei auch gerne ihr angestammtes Instrumentarium gegen Kabeln\, Keyboards\, Objekte\, Props\, Tanz\, Stimme\, Gesang u.a.m. ein. Mitglieder sind die Perkussionistin Aleksandra Gołaj (sie spielt nicht nur mit dem NFM Wrocław Philharmonic Orchestra\, sondern ist auch in verschiedenen Formationen bei einschlägigen Festivals Neuer Musik zu Gast)\, der Akkordeonist Rafał Łuc (er hat über 80 Werke für sein Instrument uraufgeführt und spielte u.a. mit dem BBC Symphony Orchestra\, der London Sinfonietta und natürlich mit dem NFM Philharmonic Orchestra)\, sowie der Komponist und Elektroniker Jacek Sotomski\, der auch mit eigenem Werk vertreten ist. Weitere Stücke polnischer Komponisten wie auch eine jüngst beim Warschauer Herbst uraufgeführte Komposition des norwegischen Kranichsteiner Musikpreisträgers 2018\, Martin A. Hirsti-Kvam\, runden das Programm nebst einem weiteren Paradestück des Composer-Performers Neo Hülcker im Bereich Performance-Aktion-Musiktheatrales ab. \nBei „open music“ gastiert Ensemble Kompopolex als Young Ensemble in Residence des durch das Creative Europe Programme of the European Union geförderten Ulysses Netzwerks und in Kooperation mit impuls\, deren Associate Partner „open music“ mit einigen Projekten 2023 und 2024 ist. \nLINKS\nEnsemble Kompoplex\nKatarina Gryvul\nMartin A. Hirsti-Kvam\nNeo Hülcker\nRafał Ryterski\nJacek Sotomski\nMonika Szpyrka \nTICKETS\n€ 18 | € 12* | € 7** \n* SchülerInnen\, StudentInnen\, Präsenz-/ZivildienerInnen und Arbeitslose mit gültigem Ausweis\n** MusikstudentInnen mit gültigem Ausweis an der Abendkassa sowie Kinder bis 10 Jahre\n*** Eintritt frei für Hunger auf Kunst & Kultur an der Abendkassa ab 15 Minuten vor Konzertbeginn \nAbendkassa\nDie Abendkassa öffnet 30 Minuten vor Konzertbeginn \nReservierungen\nE-Mail
URL:https://www.grazjazz.at/event/ensemble-kompopolex/
LOCATION:ARTist´s Graz\, Schützgasse 16\, Graz\, 8020\, Österreich
CATEGORIES:open music
ATTACH;FMTTYPE=image/jpeg:https://www.grazjazz.at/wp-content/uploads/2023/11/Kompoplex_c_Monika_Stolarska_HP.jpg
ORGANIZER;CN="open%20music":MAILTO:ute.pinter@openmusic.at
END:VEVENT
END:VCALENDAR