BEGIN:VCALENDAR
VERSION:2.0
PRODID:-//grazjazz - ECPv5.8.2//NONSGML v1.0//EN
CALSCALE:GREGORIAN
METHOD:PUBLISH
X-WR-CALNAME:grazjazz
X-ORIGINAL-URL:https://www.grazjazz.at
X-WR-CALDESC:Veranstaltungen für grazjazz
BEGIN:VTIMEZONE
TZID:Europe/Berlin
BEGIN:DAYLIGHT
TZOFFSETFROM:+0100
TZOFFSETTO:+0200
TZNAME:CEST
DTSTART:20220327T010000
END:DAYLIGHT
BEGIN:STANDARD
TZOFFSETFROM:+0200
TZOFFSETTO:+0100
TZNAME:CET
DTSTART:20221030T010000
END:STANDARD
END:VTIMEZONE
BEGIN:VEVENT
DTSTART;TZID=Europe/Berlin:20220713T193000
DTEND;TZID=Europe/Berlin:20220713T193000
DTSTAMP:20260421T205757
CREATED:20220622T084734Z
LAST-MODIFIED:20220622T091629Z
UID:2802-1657740600-1657740600@www.grazjazz.at
SUMMARY:Karlheinz Miklin jr. - Following footsteps
DESCRIPTION:Karlheinz Miklin jr. – drums\nGerhard Ornig – trumpet\nEmiliano Sampaio -guitar\nHrvoje Kralj – bass \nAnfang 2021 beschloss Karlheinz Miklin jr. nach 30 Jahren als Musiker mit Following Footsteps erstmals ein Projekt unter eigenem Namen auf die Beine zu stellen.\nKonzept und Musik der Band stammen zur Gänze von ihm. Und als logische Konsequenz aus seinem musikalischen Werdegang – sowohl Rock als auch Jazzmusiker mit klassischer Vergangenheit – ergibt sich ein abwechslungsreicher Bandsound\, ohne enge stilistische Grenzen.\nFür die Umsetzung seiner musikalischen Ideen wählte Karlheinz Miklin jr. Musiker\, mit denen er schon zuvor in diversen Projekten zusammengearbeitet und dort ein besonderes musikalisches Verständnis gefunden hat. Sie sind allesamt herausragende Instrumentalisten und als solche längst fixer Bestandteiler der nationalen und internationalen Jazz Szene. \nTickets: oeticket.com
URL:https://www.grazjazz.at/event/karlheinz-miklin-jr-following-footsteps/
LOCATION:Generalihof\, Generalihof 9\, Graz\, Steiermark\, 8010
CATEGORIES:gamsbART,Generalihof Konzerte
ATTACH;FMTTYPE=image/jpeg:https://www.grazjazz.at/wp-content/uploads/2022/06/karlheinz-miklin.jpeg
ORGANIZER;CN="gamsbART":MAILTO:office@gamsbartjazz.at
END:VEVENT
END:VCALENDAR