BEGIN:VCALENDAR
VERSION:2.0
PRODID:-//grazjazz - ECPv5.8.2//NONSGML v1.0//EN
CALSCALE:GREGORIAN
METHOD:PUBLISH
X-WR-CALNAME:grazjazz
X-ORIGINAL-URL:https://www.grazjazz.at
X-WR-CALDESC:Veranstaltungen für grazjazz
BEGIN:VTIMEZONE
TZID:Europe/Berlin
BEGIN:DAYLIGHT
TZOFFSETFROM:+0100
TZOFFSETTO:+0200
TZNAME:CEST
DTSTART:20260329T010000
END:DAYLIGHT
BEGIN:STANDARD
TZOFFSETFROM:+0200
TZOFFSETTO:+0100
TZNAME:CET
DTSTART:20261025T010000
END:STANDARD
END:VTIMEZONE
BEGIN:VEVENT
DTSTART;TZID=Europe/Berlin:20260421T200000
DTEND;TZID=Europe/Berlin:20260421T200000
DTSTAMP:20260420T133623
CREATED:20260303T104923Z
LAST-MODIFIED:20260318T100935Z
UID:7565-1776801600-1776801600@www.grazjazz.at
SUMMARY:KUG Jazz Orchester
DESCRIPTION:Leitung: Johannes Berauer \nThe KUG Jazz Orchestra brings together advanced jazz students of the Jazz Institute at the University of Music and Performing Arts Graz. The ensemble presents dynamic big band programs ranging from classic repertoire to contemporary jazz compositions. \nKarten an der Abendkasse (€ 10\,- | € 5\,-) \n  \n 
URL:https://www.grazjazz.at/event/kug-jazz-orchester-4/
LOCATION:WIST / mo.xx\, Moserhofgasse 34\, Graz\, 8010\, Österreich
CATEGORIES:2026,KUG,WIST
ATTACH;FMTTYPE=image/jpeg:https://www.grazjazz.at/wp-content/uploads/2023/03/berauer_HP.jpg
GEO:47.06084;15.45521
X-APPLE-STRUCTURED-LOCATION;VALUE=URI;X-ADDRESS=WIST / mo.xx Moserhofgasse 34 Graz 8010 Österreich;X-APPLE-RADIUS=500;X-TITLE=Moserhofgasse 34:geo:15.45521,47.06084
END:VEVENT
END:VCALENDAR