BEGIN:VCALENDAR
VERSION:2.0
PRODID:-//grazjazz - ECPv5.8.2//NONSGML v1.0//EN
CALSCALE:GREGORIAN
METHOD:PUBLISH
X-WR-CALNAME:grazjazz
X-ORIGINAL-URL:https://www.grazjazz.at
X-WR-CALDESC:Veranstaltungen für grazjazz
BEGIN:VTIMEZONE
TZID:Europe/Berlin
BEGIN:DAYLIGHT
TZOFFSETFROM:+0100
TZOFFSETTO:+0200
TZNAME:CEST
DTSTART:20260329T010000
END:DAYLIGHT
BEGIN:STANDARD
TZOFFSETFROM:+0200
TZOFFSETTO:+0100
TZNAME:CET
DTSTART:20261025T010000
END:STANDARD
END:VTIMEZONE
BEGIN:VEVENT
DTSTART;TZID=Europe/Berlin:20260123T200000
DTEND;TZID=Europe/Berlin:20260123T200000
DTSTAMP:20260424T102654
CREATED:20251202T104523Z
LAST-MODIFIED:20251202T104710Z
UID:7325-1769198400-1769198400@www.grazjazz.at
SUMMARY:KUG - SWINGBAND
DESCRIPTION:Leitung: Milos Milojevic \nKarten an der Abendkassa. \n  \n  \n  \n 
URL:https://www.grazjazz.at/event/kug-swingband/
LOCATION:Royal Garden Jazz Club\, Bürgergasse 4\, Graz\, Steiermark\, 8010\, Österreich
CATEGORIES:2026,Royal Garden Jazz Club
ATTACH;FMTTYPE=image/jpeg:https://www.grazjazz.at/wp-content/uploads/2023/12/milos-milojevic_c-werner-kmetitsch_HP.jpg
ORGANIZER;CN="Royal%20Garden%20Jazz%20Club":MAILTO:royal.garden@gmx.at
END:VEVENT
END:VCALENDAR