BEGIN:VCALENDAR
VERSION:2.0
PRODID:-//grazjazz - ECPv5.8.2//NONSGML v1.0//EN
CALSCALE:GREGORIAN
METHOD:PUBLISH
X-WR-CALNAME:grazjazz
X-ORIGINAL-URL:https://www.grazjazz.at
X-WR-CALDESC:Veranstaltungen für grazjazz
BEGIN:VTIMEZONE
TZID:Europe/Berlin
BEGIN:DAYLIGHT
TZOFFSETFROM:+0100
TZOFFSETTO:+0200
TZNAME:CEST
DTSTART:20240331T010000
END:DAYLIGHT
BEGIN:STANDARD
TZOFFSETFROM:+0200
TZOFFSETTO:+0100
TZNAME:CET
DTSTART:20241027T010000
END:STANDARD
END:VTIMEZONE
BEGIN:VEVENT
DTSTART;TZID=Europe/Berlin:20240405T200000
DTEND;TZID=Europe/Berlin:20240405T200000
DTSTAMP:20260421T165920
CREATED:20240223T115257Z
LAST-MODIFIED:20240223T115840Z
UID:5276-1712347200-1712347200@www.grazjazz.at
SUMMARY:Old Stoariegler Dixieland Band
DESCRIPTION:HANNES BAUER (tp)\, \nDENIS FAIĆ (cl)\, \nFRANZ BRODSCHNEIDER (tb)\, \nDEJAN PEČENKO (p)\, \nKLAUS MELEM (b)\, \nMANFRED JOSEL (dr). \nGegründet 1976 ist diese Band noch immer eine der bemerkenswertesten Formation im Dixieland- und Swingbereich. „Tschäss ohne Schträss“ ist das Motto dieses Ensembles\, wo vorgetäuschte Einfachheit zu musikalischer Brillanz erhoben wird. \nTICKETS:\nKarten an der Abendkassa
URL:https://www.grazjazz.at/event/old-stoariegler-dixieland-band/
LOCATION:Royal Garden Jazz Club\, Bürgergasse 4\, Graz\, Steiermark\, 8010\, Österreich
CATEGORIES:Royal Garden Jazz Club
ATTACH;FMTTYPE=image/jpeg:https://www.grazjazz.at/wp-content/uploads/2024/02/Old-Stoariegler-Dixieland-Band_HP.jpg
ORGANIZER;CN="Royal%20Garden%20Jazz%20Club":MAILTO:royal.garden@gmx.at
END:VEVENT
END:VCALENDAR