BEGIN:VCALENDAR
VERSION:2.0
PRODID:-//grazjazz - ECPv5.8.2//NONSGML v1.0//EN
CALSCALE:GREGORIAN
METHOD:PUBLISH
X-WR-CALNAME:grazjazz
X-ORIGINAL-URL:https://www.grazjazz.at
X-WR-CALDESC:Veranstaltungen für grazjazz
BEGIN:VTIMEZONE
TZID:Europe/Berlin
BEGIN:DAYLIGHT
TZOFFSETFROM:+0100
TZOFFSETTO:+0200
TZNAME:CEST
DTSTART:20230326T010000
END:DAYLIGHT
BEGIN:STANDARD
TZOFFSETFROM:+0200
TZOFFSETTO:+0100
TZNAME:CET
DTSTART:20231029T010000
END:STANDARD
END:VTIMEZONE
BEGIN:VEVENT
DTSTART;TZID=Europe/Berlin:20230428T193000
DTEND;TZID=Europe/Berlin:20230428T193000
DTSTAMP:20260423T211406
CREATED:20230304T082426Z
LAST-MODIFIED:20230314T090819Z
UID:3979-1682710200-1682710200@www.grazjazz.at
SUMMARY:ORIGINA1NERD
DESCRIPTION:Maximilian Glanz – Saxophon\,\nAndreas Erd – E-Gitarre\,\nThomas Quendler – Keys\,\nJakob Gönitzer – E-Bass\,\nGabor Bedö – Schlagzeug \nOrigina1Nerd – der Name der Band geht zurück auf die Vergangenheit der Mitglieder\, die alle einmalneben ihrer aktuellen musikalischen Phase auch eine technische als Nerds erlebten. Jetzt im Bunde der fünf Mitglieder wurde das Ziel gesetzt\, originelle Musik zu komponieren\, arrangieren und auch zu präsentieren. Das Ergebnis dieses Prozesses ist Origina1Nerds Debütalbum „Unknown Error“\, eine Mischung aus harmonischen Konzepten und Improvisation des Jazz\, kompositorischen sowie rhythmischen Elementen des Progressive Rock\, emulgiert mit Hilfe einer breiten Palette von Klängen elektronischer Musik. Daher erschien die Bezeichnung Progressive Jazz angemessen erscheinen. \nUm diesen Genre-Mix zu einem funktionierenden und ausgefeilten Klangkonzept zu entwickeln\, in dem Elemente wie Odd Meter\, Sequenzierung\, Metric Modulation etc. Grundbausteine der Kompositionen sind\, musste die Band an der filigranen Balance zwischen komplexer Rhythmik und Harmonik tüfteln – mit Erfolg. Obwohl die Notation vieler der Stücke mathematischen Gleichungen ähneln\, gelingt es Origina1Nerd\, für jede ihrer Kompositionen eine höchst musikalische Lösung zu finden. Dies wurde auch von der Jury von Ton Art Tirol gewürdigt\, die die Band und ihren musikalischen Leiter Max Glanz den Tiroler Jugendjazzpreis 2022 verliehen.\nMit „Unknown Error“ legt die Band ihr Debütalbum vor\, das neben neun Eigenkompositionen auch ein durchdachtes Albumkonzept enthält. Das Klackern eines Keyboards\, Geräusche von alten CD-Playern oder anderen technischen Geräten wurden in die Übergänge einiger Tracks geschickt eingefügt. Alles dient der Dramaturgie des Albums\, wodurch „Unknown Error“ nicht nur eine Aneinanderreihung verschiedener Songs darstellt\, sondern vielmehr als ein Gesamtkunstwerk erscheint. \n 
URL:https://www.grazjazz.at/event/origina1nerd/
LOCATION:Orpheum Graz\, Orpheumgasse 8\, Graz\, Steiermark\, 8020\, Österreich
ATTACH;FMTTYPE=image/jpeg:https://www.grazjazz.at/wp-content/uploads/2023/03/origina1nerd1_HP.jpg
ORGANIZER;CN="FatTuesday":MAILTO:info1@jazzwerkstattgraz.com
GEO:47.07241;15.43005
X-APPLE-STRUCTURED-LOCATION;VALUE=URI;X-ADDRESS=Orpheum Graz Orpheumgasse 8 Graz Steiermark 8020 Österreich;X-APPLE-RADIUS=500;X-TITLE=Orpheumgasse 8:geo:15.43005,47.07241
END:VEVENT
END:VCALENDAR