BEGIN:VCALENDAR
VERSION:2.0
PRODID:-//grazjazz - ECPv5.8.2//NONSGML v1.0//EN
CALSCALE:GREGORIAN
METHOD:PUBLISH
X-WR-CALNAME:grazjazz
X-ORIGINAL-URL:https://www.grazjazz.at
X-WR-CALDESC:Veranstaltungen für grazjazz
BEGIN:VTIMEZONE
TZID:Europe/Berlin
BEGIN:DAYLIGHT
TZOFFSETFROM:+0100
TZOFFSETTO:+0200
TZNAME:CEST
DTSTART:20220327T010000
END:DAYLIGHT
BEGIN:STANDARD
TZOFFSETFROM:+0200
TZOFFSETTO:+0100
TZNAME:CET
DTSTART:20221030T010000
END:STANDARD
END:VTIMEZONE
BEGIN:VEVENT
DTSTART;TZID=Europe/Berlin:20221210T200000
DTEND;TZID=Europe/Berlin:20221210T200000
DTSTAMP:20260421T185856
CREATED:20220611T094835Z
LAST-MODIFIED:20220611T163204Z
UID:2760-1670702400-1670702400@www.grazjazz.at
SUMMARY:Plus-Minus Ensemble & Guests
DESCRIPTION:open music presents: \nMark Knoop – performer\nSerge Vuille – performer\nMatthew Shlomowitz – performer\nsowie\nAna Ostojić – synthesizer\nDaniel Dundus – saxophone \n\nPROGRAMM\nJessie Marino Interior Morning\, for solo performer and video (2018)\nMatthew Shlomowitz Lecture about Listening to Music\, for lecturer\, soprano/tenor saxophone and synthesiser/samples (2017)\nSarah Nemtsov Drummed Variation\, Duo for junk drum kit and chaos pad (2014)\nSimon Steen-Andersen Difficulties Putting into Practice\, Duo for two performers (2007/14)\nSteve Takasugi Strange Autumn\, Duo for two performers (2002) \nDas Plus-Minus Ensemble wurde 2003 von den Komponisten Joanna Bailie und Matthew Shlomowitz mit Sitz in London gegründet und hat sich der Beauftragung und Aufführung neuer Kompositionen im Verbund mit aktuellem Repertoire mit Meilensteincharakter verschrieben. Spezielles\, und das Ensemble von vielen anderen unterscheidendes Augenmerk wird dabei auf performative\, elektroakustische und konzeptuelle Stücke gelegt sowie Stücke mit experimentell offenem Charakter wie der Stockhausen-Klassiker aus 1963\, von dem das Ensemble seinen Namen herleitet. +- tritt regelmäßig bei Kammer Klang in London\, Cafe Oto und an der City University auf\, ist etwa auf BBC Radio 3 und Deutschlandradio Kultur zu hören und war u.a. bei Festivals und Reihen wie Borealis (Bergen)\, Cut and Splice (London)\, Fundación BBVA (Bilbao)\, Huddersfield\, MaerzMusik (Berlin)\, Spor (Aarhus)\, Transit (Leuven)\, Ultima (Oslo)\, Sampler Series at l’Auditori (Barcelona) und Klang Festival (Copenhagen) zu Gast. Darüber hinaus arbeitet +- mit jungen noch studierenden Komponisten zusammen und gab auch an unterschiedlichsten Universitäten Workshops. Neben aktuellen Werken von Bailie und Shlomowitz hat sich +- in letzter Zeit auch insbesondere Stücken von Komponisten wie Peter Ablinger\, Laurence Crane\, Bernhard Lang\, James Saunders\, Alexander Schubert und Jennifer Walshe gewidmet. \nIn Ergänzung zum Programmteil des Plus-Minus Ensembles führt „open music“ erneut (das Konzert musste 2020 Corona bedingt abgesagt werden) Matthew Shlomowitz mit Studierenden u.a. des PPCM-Programmes an der KUG zusammen\, um eines seiner Lecture-Pieces für die Aufführung zu erarbeiten. \nLINKS\nPlus-Minus Ensemble\nMatthew Shlomowitz\nSarah Nemtsov\nSteve Takasugi\nSimon Steen-Andersen \nTICKETS\n€ 16 | € 11* | € 6**\n* SchülerInnen\, StudentInnen\, Präsenz-/Zivildiener und Arbeitslose mit gültigem Ausweis\n** MusikstudentInnen mit gültigem Ausweis an der Abendkassa sowie Kinder bis 10 Jahre\n*** Eintritt frei für Hunger auf Kunst & Kultur an der Abendkassa ab 15 Minuten vor Konzertbeginn \nAbendkassa\nDie Abendkassa öffnet 30 Minuten vor Konzertbeginn \nReservierungen\nE-Mail
URL:https://www.grazjazz.at/event/plus-minus-ensemble-guests/
LOCATION:ARTist´s Graz\, Schützgasse 16\, Graz\, 8020\, Österreich
CATEGORIES:open music
ATTACH;FMTTYPE=image/jpeg:https://www.grazjazz.at/wp-content/uploads/2022/06/Plus-Minus-Ensemble_by_Camille_Blake_wep.jpg
ORGANIZER;CN="open%20music":MAILTO:ute.pinter@openmusic.at
END:VEVENT
END:VCALENDAR