BEGIN:VCALENDAR
VERSION:2.0
PRODID:-//grazjazz - ECPv5.8.2//NONSGML v1.0//EN
CALSCALE:GREGORIAN
METHOD:PUBLISH
X-WR-CALNAME:grazjazz
X-ORIGINAL-URL:https://www.grazjazz.at
X-WR-CALDESC:Veranstaltungen für grazjazz
BEGIN:VTIMEZONE
TZID:Europe/Berlin
BEGIN:DAYLIGHT
TZOFFSETFROM:+0100
TZOFFSETTO:+0200
TZNAME:CEST
DTSTART:20250330T010000
END:DAYLIGHT
BEGIN:STANDARD
TZOFFSETFROM:+0200
TZOFFSETTO:+0100
TZNAME:CET
DTSTART:20251026T010000
END:STANDARD
END:VTIMEZONE
BEGIN:VEVENT
DTSTART;TZID=Europe/Berlin:20251106T200000
DTEND;TZID=Europe/Berlin:20251106T200000
DTSTAMP:20260424T041819
CREATED:20250807T095408Z
LAST-MODIFIED:20251020T101339Z
UID:6913-1762459200-1762459200@www.grazjazz.at
SUMMARY:Reinhard Ziegerhofer - Solo
DESCRIPTION:Reinhard Ziegerhofer – bass \nOne man\, one voice and two Basses!\nEigentlich gibt es dazu nicht mehr viel zu sagen\, Reinhard Ziegerhofer ist in allen Sparten tätig\, ob als Bassist bei Folk\, Rock oder Jazzgruppen oder als Komponist von Streichquartetten oder von Theatermusik.
URL:https://www.grazjazz.at/event/reinhard-ziegerhofer-solo-2/
LOCATION:WIST / mo.xx\, Moserhofgasse 34\, Graz\, 8010\, Österreich
CATEGORIES:2025,Berndt Luef,Herbstzeitlose 2025,WIST
ATTACH;FMTTYPE=image/jpeg:https://www.grazjazz.at/wp-content/uploads/2025/08/Ziegerhofer_HP.jpg
ORGANIZER;CN="Berndt%20Luef":MAILTO:luef@mur.at
GEO:47.06084;15.45521
X-APPLE-STRUCTURED-LOCATION;VALUE=URI;X-ADDRESS=WIST / mo.xx Moserhofgasse 34 Graz 8010 Österreich;X-APPLE-RADIUS=500;X-TITLE=Moserhofgasse 34:geo:15.45521,47.06084
END:VEVENT
END:VCALENDAR