BEGIN:VCALENDAR
VERSION:2.0
PRODID:-//grazjazz - ECPv5.8.2//NONSGML v1.0//EN
CALSCALE:GREGORIAN
METHOD:PUBLISH
X-WR-CALNAME:grazjazz
X-ORIGINAL-URL:https://www.grazjazz.at
X-WR-CALDESC:Veranstaltungen für grazjazz
BEGIN:VTIMEZONE
TZID:Europe/Berlin
BEGIN:DAYLIGHT
TZOFFSETFROM:+0100
TZOFFSETTO:+0200
TZNAME:CEST
DTSTART:20210328T010000
END:DAYLIGHT
BEGIN:STANDARD
TZOFFSETFROM:+0200
TZOFFSETTO:+0100
TZNAME:CET
DTSTART:20211031T010000
END:STANDARD
END:VTIMEZONE
BEGIN:VEVENT
DTSTART;TZID=Europe/Berlin:20211213T200000
DTEND;TZID=Europe/Berlin:20211213T200000
DTSTAMP:20260422T041441
CREATED:20210409T082424Z
LAST-MODIFIED:20210409T082505Z
UID:1188-1639425600-1639425600@www.grazjazz.at
SUMMARY:Sebastian Gramss´ Slowfox
DESCRIPTION:Hayden Chisholm saxophone\nPhilip Zoubek piano\nSebastian Gramss double bass \nPROGRAMM \n„Sebastian Gramss is a masterful bass player\, establishing his ability to play full dark lines\, then demonstrating a consistently firm grasp of arco technique …“ (Cadence Magazine\, New York). \nVon allen unkonventionellen Projekten\, die Sebastian Gramss initiiert hat\, ist Slowfox das melodischste. Das 2017 auf TRAUMTON Records Berlin erschienene Album „Gentle Giants“\, das 2018 einen ECHO gewonnen hat\, lebt von einer feinsinnigen Tiefe\, in der es viel zu entdecken gibt: harmonische Raffinesse\, elegante Klangideen\, subtile Imaginationskraft. Bandleader Gramss\, der auch als Produzent wirkte\, nennt die Musik „Meloc Avantgarde“. Anders aber als jene umstürzlerische Avantgarde früherer Dekaden verändert Slowfox bestimmte\, aber eben nicht alle gängigen Parameter. Der offene Ansatz des Trios bringt ausgefuchste Strukturen und Improvisationen zusammen\, spricht gleichermaßen Intellekt und Herz an. Statt plakativer Rasanz oder Muskelspiele gibt es hier atmosphärische Zwischentöne und schlanke Klänge\, die sich in transparenten Arrangements verzahnen. \nOn board nebst ECHO Award Winner Sebastian Gramss: der famose\, u.a. als SWR-Jazzpreisträger für seine einzigartige Klangästhetik hochgeschätzte Saxophonist Hayden Chisholm aus Neuseeland\, sowie der österreichische Pianist Philip Zoubek\, Gründungsmitglied des Kölner Kollektivs für Improvisation & Aktuelle Musik Impakt und seit Jahren mittels extended techniques und inside-piano-Spiel Erkunder der mannigfaltigen Klangvielfalt des Klaviers. \nDas Konzert war ursprünglich für den 26.4.2020 geplant und musste auf Grund der Corona-Pandemie abgesagt werden. Wir freuen uns sehr\, dass eine Verschiebung geglückt ist! \nTICKETS \nKartenreservierung Corona bedingt herzlich erbeten. Nähere Informationen dazu finden Sie unter\nhttp://www.openmusic.at/tickets.html \n€ 16 | € 11* | € 6**\n* SchülerInnen\, StudentInnen\, Präsenz-/Zivildiener und Arbeitslose mit gültigem Ausweis\n** MusikstudentInnen mit gültigem Ausweis an der Abendkassa sowie Kinder bis 10 Jahre\n*** Eintritt frei für Hunger auf Kunst & Kultur an der Abendkassa ab 15 Minuten vor Konzertbeginn \nAbendkassa\nDie Abendkassa öffnet 30 Minuten vor Konzertbeginn \nVorverkauf\nZentralkartenbüro \nReservierungen\nE-Mail \nLINKS \nSebastian Gramss\nHayden Chisholm\nPhilip Zoubek
URL:https://www.grazjazz.at/event/sebastian-gramss-slowfox-2-copy-2/
LOCATION:Stockwerk\, Jakominiplatz 18\, Graz\, Steiermark\, 8010\, Österreich
CATEGORIES:open music
ATTACH;FMTTYPE=image/jpeg:https://www.grazjazz.at/wp-content/uploads/2020/07/csm_Slowfox_1_kein_credit_KLEIN_74434c6af5.jpg
ORGANIZER;CN="open%20music":MAILTO:ute.pinter@openmusic.at
GEO:47.06777;15.44203
X-APPLE-STRUCTURED-LOCATION;VALUE=URI;X-ADDRESS=Stockwerk Jakominiplatz 18 Graz Steiermark 8010 Österreich;X-APPLE-RADIUS=500;X-TITLE=Jakominiplatz 18:geo:15.44203,47.06777
END:VEVENT
END:VCALENDAR