BEGIN:VCALENDAR
VERSION:2.0
PRODID:-//grazjazz - ECPv5.8.2//NONSGML v1.0//EN
CALSCALE:GREGORIAN
METHOD:PUBLISH
X-WR-CALNAME:grazjazz
X-ORIGINAL-URL:https://www.grazjazz.at
X-WR-CALDESC:Veranstaltungen für grazjazz
BEGIN:VTIMEZONE
TZID:Europe/Berlin
BEGIN:DAYLIGHT
TZOFFSETFROM:+0100
TZOFFSETTO:+0200
TZNAME:CEST
DTSTART:20240331T010000
END:DAYLIGHT
BEGIN:STANDARD
TZOFFSETFROM:+0200
TZOFFSETTO:+0100
TZNAME:CET
DTSTART:20241027T010000
END:STANDARD
END:VTIMEZONE
BEGIN:VEVENT
DTSTART;TZID=Europe/Berlin:20240426T200000
DTEND;TZID=Europe/Berlin:20240426T200000
DTSTAMP:20260425T123723
CREATED:20240223T120354Z
LAST-MODIFIED:20240223T162117Z
UID:5287-1714161600-1714161600@www.grazjazz.at
SUMMARY:The Fritz Pauer Legacy Quintet plays „African Impressions“
DESCRIPTION:Bernhard Wiesinger (ts\,ss)\, \nDaniel Nösig (tp\,flh)\, \nErwin Schmidt (p)\, \nJohannes Strasser (b)\,\nJoris Dudli (dr) \nDieses hochkarätig besetzte Quintett formierte sich anlässlich des Festivals zum 80. Geburtstag des unvergessenen Grandseigneur des österreichischen Jazzpianos\, Fritz Pauer\, im Porgy & Bess. Hervorgegangen ist die Band aus dem ehemaligen „New Fritz Pauer Quintett“. \nDie Suite „African Impressions“ besteht aus dreizehn fein gearbeiteten Contemporary Jazz Tunes und entstand 2011\, inspiriert durch zwei Afrikareisen. Der hohe Jazzanteil und die im Gegensatz dazu nur subtil durchklingenden\, behutsam jedoch meisterhaft eingearbeiteten „Afrikanismen“\, mögen konzeptionell auch an Duke Ellingtons „Far East Suite“ erinnern. Das Ergebnis ist Pauer-Jazz pur. Hakuna Matata! \nTICKETS:\nKarten an der Abendkassa
URL:https://www.grazjazz.at/event/the-fritz-pauer-legacy-quintet-plays-african-impressions/
LOCATION:Royal Garden Jazz Club\, Bürgergasse 4\, Graz\, Steiermark\, 8010\, Österreich
CATEGORIES:Royal Garden Jazz Club
ATTACH;FMTTYPE=image/jpeg:https://www.grazjazz.at/wp-content/uploads/2024/02/Fritz-Pauer-Legacy-Quintet_HP.jpg
ORGANIZER;CN="Royal%20Garden%20Jazz%20Club":MAILTO:royal.garden@gmx.at
END:VEVENT
END:VCALENDAR