BEGIN:VCALENDAR
VERSION:2.0
PRODID:-//grazjazz - ECPv5.8.2//NONSGML v1.0//EN
CALSCALE:GREGORIAN
METHOD:PUBLISH
X-WR-CALNAME:grazjazz
X-ORIGINAL-URL:https://www.grazjazz.at
X-WR-CALDESC:Veranstaltungen für grazjazz
BEGIN:VTIMEZONE
TZID:Europe/Berlin
BEGIN:DAYLIGHT
TZOFFSETFROM:+0100
TZOFFSETTO:+0200
TZNAME:CEST
DTSTART:20250330T010000
END:DAYLIGHT
BEGIN:STANDARD
TZOFFSETFROM:+0200
TZOFFSETTO:+0100
TZNAME:CET
DTSTART:20251026T010000
END:STANDARD
END:VTIMEZONE
BEGIN:VEVENT
DTSTART;TZID=Europe/Berlin:20250312T200000
DTEND;TZID=Europe/Berlin:20250312T200000
DTSTAMP:20260421T170327
CREATED:20241122T134038Z
LAST-MODIFIED:20250128T152346Z
UID:6165-1741809600-1741809600@www.grazjazz.at
SUMMARY:THE OUTSKIRTS
DESCRIPTION:Dave Rempis – saxophones\, \nIngebrigt Håker Flaten – bass\, \nFrank Rosaly – drums  \nIn seinem Percussion Quartet muss sich Dave Rempis fühlen wie ein aufrichtiger Kämpfer gegen eine Naturgewalt. Als spiele er an gegen das Prasseln des Regens bei einem Unwetter\, gegen die Hagelkörner und gegen das Tosen des Donners. Er hat keine Angst als fearless leader\, er schleift sein Saxophon am strengen Gegenwind mit ausgeklappten Ohren. Sein Trio The Outskirts ist das Percussion Quartet ohne den zweiten Drummer Tim Daisy – und zeigt das nackte Fundament von Rempis’ Musik. Weniger brutales Höllenfeuer\, dafür scheinen verstärkt Sonny Rollins\, Frank Lowe und natürlich Peter Brötzmann durch. Hier spielen Seelenverwandte\, die ihre Liebe für tiefgreifende rhythmische Erkundungen kreativ ausleben. Rempis’ kräftiger Tenor reitet neben Håker-Flatens muskulösen Linien\, während Rosalys unendlich dynamische Herangehensweise für ein beständiges Fundament an Schwung sorgt. Dave Rempis war schon mit vielen verschiedenen Bands im Stockwerk. Waren alle diese Projekte jemals weniger als großartig? Bevor das vorkommt\, fällt uns der Himmel auf den Kopf. \nEintrittspreise: Euro 25\,00 / 18\,00 \n⇒ Reservierung \n 
URL:https://www.grazjazz.at/event/the-outskirts/
LOCATION:Stockwerk\, Jakominiplatz 18\, Graz\, Steiermark\, 8010\, Österreich
CATEGORIES:2025,Stockwerk
ATTACH;FMTTYPE=image/jpeg:https://www.grazjazz.at/wp-content/uploads/2024/11/dave-rempis.jpg
GEO:47.06777;15.44203
X-APPLE-STRUCTURED-LOCATION;VALUE=URI;X-ADDRESS=Stockwerk Jakominiplatz 18 Graz Steiermark 8010 Österreich;X-APPLE-RADIUS=500;X-TITLE=Jakominiplatz 18:geo:15.44203,47.06777
END:VEVENT
END:VCALENDAR