BEGIN:VCALENDAR
VERSION:2.0
PRODID:-//grazjazz - ECPv5.8.2//NONSGML v1.0//EN
CALSCALE:GREGORIAN
METHOD:PUBLISH
X-WR-CALNAME:grazjazz
X-ORIGINAL-URL:https://www.grazjazz.at
X-WR-CALDESC:Veranstaltungen für grazjazz
BEGIN:VTIMEZONE
TZID:Europe/Berlin
BEGIN:DAYLIGHT
TZOFFSETFROM:+0100
TZOFFSETTO:+0200
TZNAME:CEST
DTSTART:20260329T010000
END:DAYLIGHT
BEGIN:STANDARD
TZOFFSETFROM:+0200
TZOFFSETTO:+0100
TZNAME:CET
DTSTART:20261025T010000
END:STANDARD
END:VTIMEZONE
BEGIN:VEVENT
DTSTART;TZID=Europe/Berlin:20260117T200000
DTEND;TZID=Europe/Berlin:20260117T200000
DTSTAMP:20260424T071327
CREATED:20251203T120914Z
LAST-MODIFIED:20251212T120335Z
UID:7383-1768680000-1768680000@www.grazjazz.at
SUMMARY:THE PLATFORMERS (D/CH/F/NL)
DESCRIPTION:Moritz Stahl – tenor- & soprano saxophone\, \nMarie Kruttli – piano\, \nEtienne Renard – double bass\, \nSun-Mi Hong – drums\n\n  \nEintrittspreise: Euro 25\,00 / 18\,00\n⇒ Reservierung \n 
URL:https://www.grazjazz.at/event/the-platformers/
LOCATION:Stockwerk\, Jakominiplatz 18\, Graz\, Steiermark\, 8010\, Österreich
CATEGORIES:2026,Stockwerk
ATTACH;FMTTYPE=image/jpeg:https://www.grazjazz.at/wp-content/uploads/2025/12/Moritz_Stahl__c__Georg_Stirnweiss_HP.jpg
GEO:47.06777;15.44203
X-APPLE-STRUCTURED-LOCATION;VALUE=URI;X-ADDRESS=Stockwerk Jakominiplatz 18 Graz Steiermark 8010 Österreich;X-APPLE-RADIUS=500;X-TITLE=Jakominiplatz 18:geo:15.44203,47.06777
END:VEVENT
END:VCALENDAR