BEGIN:VCALENDAR
VERSION:2.0
PRODID:-//grazjazz - ECPv5.8.2//NONSGML v1.0//EN
CALSCALE:GREGORIAN
METHOD:PUBLISH
X-WR-CALNAME:grazjazz
X-ORIGINAL-URL:https://www.grazjazz.at
X-WR-CALDESC:Veranstaltungen für grazjazz
BEGIN:VTIMEZONE
TZID:Europe/Berlin
BEGIN:DAYLIGHT
TZOFFSETFROM:+0100
TZOFFSETTO:+0200
TZNAME:CEST
DTSTART:20240331T010000
END:DAYLIGHT
BEGIN:STANDARD
TZOFFSETFROM:+0200
TZOFFSETTO:+0100
TZNAME:CET
DTSTART:20241027T010000
END:STANDARD
END:VTIMEZONE
BEGIN:VEVENT
DTSTART;TZID=Europe/Berlin:20241213T200000
DTEND;TZID=Europe/Berlin:20241213T200000
DTSTAMP:20260423T164741
CREATED:20240827T094559Z
LAST-MODIFIED:20241202T115851Z
UID:5877-1734120000-1734120000@www.grazjazz.at
SUMMARY:Royal Garden Jazz Band goes Christmas
DESCRIPTION:Mit dem Weihnachtskonzert unserer „Hausherren“ erleben wir den swingenden Abschluss der heurigen Clubjahres. Wieder mit im Spiel ist die CD dieser legendären Grazer Band: „ROYAL GARDEN JAZZ BAND GOES CHRISTMAS“. \nPETER KUNSEK (cl)\,\nHANNES BAUER (tp)\,\nFRANZ BRODSCHNEIDER (tb)\,\nBERND KAINZ (p)\,\nTORSTEN ZIMMERMANN (b)\,\nANÐELKO STUPAR \nFür swingende Musik und gute Atmosphäre ist wieder gesorgt. \nTICKETS:\nKarten an der Abendkassa
URL:https://www.grazjazz.at/event/weihnachten-mit-der-royal-garden-jazzband/
LOCATION:Royal Garden Jazz Club\, Bürgergasse 4\, Graz\, Steiermark\, 8010\, Österreich
CATEGORIES:Royal Garden Jazz Club
ATTACH;FMTTYPE=image/jpeg:https://www.grazjazz.at/wp-content/uploads/2024/08/cover-scaled_HP.jpg
ORGANIZER;CN="Royal%20Garden%20Jazz%20Club":MAILTO:royal.garden@gmx.at
END:VEVENT
END:VCALENDAR