BEGIN:VCALENDAR
VERSION:2.0
PRODID:-//grazjazz - ECPv5.8.2//NONSGML v1.0//EN
CALSCALE:GREGORIAN
METHOD:PUBLISH
X-WR-CALNAME:grazjazz
X-ORIGINAL-URL:https://www.grazjazz.at
X-WR-CALDESC:Veranstaltungen für grazjazz
BEGIN:VTIMEZONE
TZID:Europe/Berlin
BEGIN:DAYLIGHT
TZOFFSETFROM:+0100
TZOFFSETTO:+0200
TZNAME:CEST
DTSTART:20260329T010000
END:DAYLIGHT
BEGIN:STANDARD
TZOFFSETFROM:+0200
TZOFFSETTO:+0100
TZNAME:CET
DTSTART:20261025T010000
END:STANDARD
END:VTIMEZONE
BEGIN:VEVENT
DTSTART;TZID=Europe/Berlin:20260430T200000
DTEND;TZID=Europe/Berlin:20260430T200000
DTSTAMP:20260424T015836
CREATED:20251103T132023Z
LAST-MODIFIED:20251103T132453Z
UID:7142-1777579200-1777579200@www.grazjazz.at
SUMMARY:MAREIKE WIENING QUINTET (D/US)
DESCRIPTION:Rich Perry – tenor saxophone\, \nAlex Goodman – guitar\, \nLuke Marantz – piano\, \nPhil Donkin – bass\, \nMareike Wiening – drums \nUNESCO International Day of Jazz \nEintrittspreise: Euro 25\,00 / 18\,00\n⇒ Reservierung \n 
URL:https://www.grazjazz.at/event/mareike-wiening-quintet/
LOCATION:Stockwerk\, Jakominiplatz 18\, Graz\, Steiermark\, 8010\, Österreich
CATEGORIES:2026,Stockwerk
ATTACH;FMTTYPE=image/jpeg:https://www.grazjazz.at/wp-content/uploads/2025/11/mareike-wiening-quartet_HP.jpg
GEO:47.06777;15.44203
X-APPLE-STRUCTURED-LOCATION;VALUE=URI;X-ADDRESS=Stockwerk Jakominiplatz 18 Graz Steiermark 8010 Österreich;X-APPLE-RADIUS=500;X-TITLE=Jakominiplatz 18:geo:15.44203,47.06777
END:VEVENT
BEGIN:VEVENT
DTSTART;TZID=Europe/Berlin:20260506T200000
DTEND;TZID=Europe/Berlin:20260506T200000
DTSTAMP:20260424T015836
CREATED:20260224T155304Z
LAST-MODIFIED:20260303T114418Z
UID:7487-1778097600-1778097600@www.grazjazz.at
SUMMARY:Pivot Quartet & Fredi Lang
DESCRIPTION:Bettina Wenzel – vocals\, \nSeppo Gründler – guitar\, \nMartin Zrost – sax\, bass\, \nJosef Klammer – (augmented) drums\, \nFredi Lang – trumpet \n⇒ Reservierung \n 
URL:https://www.grazjazz.at/event/pivot-quartet-fredi-lang/
LOCATION:Stockwerk\, Jakominiplatz 18\, Graz\, Steiermark\, 8010\, Österreich
CATEGORIES:2026,Stockwerk
ATTACH;FMTTYPE=image/jpeg:https://www.grazjazz.at/wp-content/uploads/2026/02/pivot_HP.jpg
GEO:47.06777;15.44203
X-APPLE-STRUCTURED-LOCATION;VALUE=URI;X-ADDRESS=Stockwerk Jakominiplatz 18 Graz Steiermark 8010 Österreich;X-APPLE-RADIUS=500;X-TITLE=Jakominiplatz 18:geo:15.44203,47.06777
END:VEVENT
BEGIN:VEVENT
DTSTART;TZID=Europe/Berlin:20260507T200000
DTEND;TZID=Europe/Berlin:20260507T200000
DTSTAMP:20260424T015836
CREATED:20260224T155740Z
LAST-MODIFIED:20260303T114455Z
UID:7490-1778184000-1778184000@www.grazjazz.at
SUMMARY:The Styrian Improvisers Orchestra feat. Bettina Wenzel
DESCRIPTION:more details will come \n⇒ Reservierung \n 
URL:https://www.grazjazz.at/event/the-styrian-improvisers-orchestra-feat-bettina-wenzel/
LOCATION:Stockwerk\, Jakominiplatz 18\, Graz\, Steiermark\, 8010\, Österreich
CATEGORIES:2026,Stockwerk
ATTACH;FMTTYPE=image/jpeg:https://www.grazjazz.at/wp-content/uploads/2026/02/BettinaWenzelByBerndLauber_HP-1.jpg
GEO:47.06777;15.44203
X-APPLE-STRUCTURED-LOCATION;VALUE=URI;X-ADDRESS=Stockwerk Jakominiplatz 18 Graz Steiermark 8010 Österreich;X-APPLE-RADIUS=500;X-TITLE=Jakominiplatz 18:geo:15.44203,47.06777
END:VEVENT
BEGIN:VEVENT
DTSTART;TZID=Europe/Berlin:20260508T200000
DTEND;TZID=Europe/Berlin:20260508T200000
DTSTAMP:20260424T015836
CREATED:20251104T074950Z
LAST-MODIFIED:20251104T075946Z
UID:7146-1778270400-1778270400@www.grazjazz.at
SUMMARY:KENJI HERBERT TRIO (A)
DESCRIPTION:Kenji Herbert – guitar\, \nVinicius Cajado – bass\, \nLukas König – drums \nDie drei Fixsterne der jungen europäischen Jazzszene erzählen nicht nur mit ihrer Musik eine Geschichte der kulturellen Vielfalt: Ihre jeweiligen kulturellen Wurzeln liegen in Japan\, Brasilien und Österreich\, zur Band wurden sie jedoch erst in Brooklyn\, New York. Die drei Musiker lassen ihre vielfältigen Inspirationsquellen zu einem unverkennbaren Bandsound verschmelzen. Die Klangästhetik einer Indieband trifft auf Improvisationskunst auf höchstem Niveau. Inzwischen leben die drei in Wien und Berlin und bereichern mit ihrer künstlerischen Vision die Szenen Europas. \nEintrittspreise: Euro 25\,00 / 18\,00\n⇒ Reservierung \n 
URL:https://www.grazjazz.at/event/kenji-herbert-trio/
LOCATION:Stockwerk\, Jakominiplatz 18\, Graz\, Steiermark\, 8010\, Österreich
CATEGORIES:2026,Stockwerk
ATTACH;FMTTYPE=image/jpeg:https://www.grazjazz.at/wp-content/uploads/2025/11/Kenji-Herbert-Trio-©-Victoria-Nazarova_HP.jpg
GEO:47.06777;15.44203
X-APPLE-STRUCTURED-LOCATION;VALUE=URI;X-ADDRESS=Stockwerk Jakominiplatz 18 Graz Steiermark 8010 Österreich;X-APPLE-RADIUS=500;X-TITLE=Jakominiplatz 18:geo:15.44203,47.06777
END:VEVENT
BEGIN:VEVENT
DTSTART;TZID=Europe/Berlin:20260515T200000
DTEND;TZID=Europe/Berlin:20260515T200000
DTSTAMP:20260424T015836
CREATED:20251104T075952Z
LAST-MODIFIED:20251104T080554Z
UID:7150-1778875200-1778875200@www.grazjazz.at
SUMMARY:HYPOMANIAC (ARG/P/F)
DESCRIPTION:Camila Nebbia – tenor sax\, \nGonçalo Almeida – bass\, \nSylvain Darrifourcq – drums \nEintrittspreise: Euro 25\,00 / 18\,00\n⇒ Reservierung \n 
URL:https://www.grazjazz.at/event/hypomaniac/
LOCATION:Stockwerk\, Jakominiplatz 18\, Graz\, Steiermark\, 8010\, Österreich
CATEGORIES:2026,Stockwerk
ATTACH;FMTTYPE=image/jpeg:https://www.grazjazz.at/wp-content/uploads/2025/11/hypomanic_HP.jpg
GEO:47.06777;15.44203
X-APPLE-STRUCTURED-LOCATION;VALUE=URI;X-ADDRESS=Stockwerk Jakominiplatz 18 Graz Steiermark 8010 Österreich;X-APPLE-RADIUS=500;X-TITLE=Jakominiplatz 18:geo:15.44203,47.06777
END:VEVENT
BEGIN:VEVENT
DTSTART;TZID=Europe/Berlin:20260522T203000
DTEND;TZID=Europe/Berlin:20260522T203000
DTSTAMP:20260424T015836
CREATED:20251104T080557Z
LAST-MODIFIED:20251104T081526Z
UID:7154-1779481800-1779481800@www.grazjazz.at
SUMMARY:YVONNE MORIEL & SWEETLIFE (CH/A)
DESCRIPTION:Yvonne Moriel – saxophone\, flute\, \nLorenz Widauer – trumpet\, \nStephanie Weninger – moog & keys\, \nRaphael Vorraber – drums \n\nsweetlife ist ein junges Jazzquartett rund um die in Wien lebende Saxophonistin Yvonne Moriel\, die vor kurzem als „Best Newcomer“ mit dem Österreichischen Jazzpreis ausgezeichnet wurde. Das Quartett wurde als New Austrian Sound of Music-Act 2025/26 gekürt und zählt zu den vielversprechendsten Vertretern der jungen\, aufstrebenden und offenen Jazzszene in Österreich. Sie präsentieren nun ihr Debut-Album.  Der Sound von sweetlife ist geprägt von einer außergewöhnlichen Mischung: Klassische Jazz-Elemente verbinden sich mit elektronischen Klangwelten\, komplexe rhythmische Strukturen treffen auf flächige Dub-Effekte. Die Besetzung – Saxophon\, Trompete\, Synthbass/Keys und Schlagzeug – entspricht einer neu gedachten Version des klassischen\, sophisticated Jazzquintetts. \nYvonne Moriel\, in Jazz und klassischer Musik ausgebildet\, ist eine stilistisch vielseitige Musikerin\, die in der zeitgenössischen und experimentellen Musik ebenso zu Hause ist wie im Modern Jazz. Seit 2022 entwickelt sie mit sweetlife einen eigenständigen Sound\, der traditionelle Konzepte hinterfragt und Raum für neue Klangräume schafft\, inspiriert von Jazz\, Dub\, elektronischen Sounderweiterungen und freier Improvisation. \n\n  \nEintrittspreise: Euro 25\,00 / 18\,00\n⇒ Reservierung \n 
URL:https://www.grazjazz.at/event/yvonne-moriel-sweetlife/
LOCATION:Stockwerk\, Jakominiplatz 18\, Graz\, Steiermark\, 8010\, Österreich
CATEGORIES:2026,Stockwerk
ATTACH;FMTTYPE=image/jpeg:https://www.grazjazz.at/wp-content/uploads/2025/11/yvonnmoriel_sweetlife_by_Tobias_Paal.jpg
GEO:47.06777;15.44203
X-APPLE-STRUCTURED-LOCATION;VALUE=URI;X-ADDRESS=Stockwerk Jakominiplatz 18 Graz Steiermark 8010 Österreich;X-APPLE-RADIUS=500;X-TITLE=Jakominiplatz 18:geo:15.44203,47.06777
END:VEVENT
BEGIN:VEVENT
DTSTART;TZID=Europe/Berlin:20260603T200000
DTEND;TZID=Europe/Berlin:20260603T200000
DTSTAMP:20260424T015836
CREATED:20251104T082050Z
LAST-MODIFIED:20260309T204632Z
UID:7163-1780516800-1780516800@www.grazjazz.at
SUMMARY:JBBG Smål & Peter Lehel
DESCRIPTION:  \nEintrittspreise: Euro 25\,00 / 18\,00\n⇒ Reservierung \n 
URL:https://www.grazjazz.at/event/jbbg-smal-peter-lehel/
LOCATION:Stockwerk\, Jakominiplatz 18\, Graz\, Steiermark\, 8010\, Österreich
CATEGORIES:2026,JBBG smal - Gran Reserva,Stockwerk
ATTACH;FMTTYPE=image/jpeg:https://www.grazjazz.at/wp-content/uploads/2020/09/JBBGsmall©Peter-Purgar-w.jpg
GEO:47.06777;15.44203
X-APPLE-STRUCTURED-LOCATION;VALUE=URI;X-ADDRESS=Stockwerk Jakominiplatz 18 Graz Steiermark 8010 Österreich;X-APPLE-RADIUS=500;X-TITLE=Jakominiplatz 18:geo:15.44203,47.06777
END:VEVENT
BEGIN:VEVENT
DTSTART;TZID=Europe/Berlin:20260613T210000
DTEND;TZID=Europe/Berlin:20260613T210000
DTSTAMP:20260424T015836
CREATED:20251104T082309Z
LAST-MODIFIED:20251104T082637Z
UID:7166-1781384400-1781384400@www.grazjazz.at
SUMMARY:SOPHIE ABRAHAM - SOLO (A)
DESCRIPTION:Sophie Abraham – violoncello\n  \nEintrittspreise: Euro 25\,00 / 18\,00\n⇒ Reservierung \n 
URL:https://www.grazjazz.at/event/sophie-abraham-solo/
LOCATION:Stockwerk\, Jakominiplatz 18\, Graz\, Steiermark\, 8010\, Österreich
CATEGORIES:2026,Stockwerk
ATTACH;FMTTYPE=image/jpeg:https://www.grazjazz.at/wp-content/uploads/2025/11/Sophie_Abraham_HP.jpg
GEO:47.06777;15.44203
X-APPLE-STRUCTURED-LOCATION;VALUE=URI;X-ADDRESS=Stockwerk Jakominiplatz 18 Graz Steiermark 8010 Österreich;X-APPLE-RADIUS=500;X-TITLE=Jakominiplatz 18:geo:15.44203,47.06777
END:VEVENT
BEGIN:VEVENT
DTSTART;TZID=Europe/Berlin:20260619T203000
DTEND;TZID=Europe/Berlin:20260619T203000
DTSTAMP:20260424T015836
CREATED:20251104T082639Z
LAST-MODIFIED:20251104T083120Z
UID:7169-1781901000-1781901000@www.grazjazz.at
SUMMARY:DUO SUBSYSTEM & CASEY MOIR (D/AUS)
DESCRIPTION:Casey Moir – vocals\, \nAlmut Schlichting – baritone saxophone\, \nSven Hinse – double bass\n  \nEintrittspreise: Euro 25\,00 / 18\,00\n⇒ Reservierung \n 
URL:https://www.grazjazz.at/event/duo-subsystem-casey-moir/
LOCATION:Stockwerk\, Jakominiplatz 18\, Graz\, Steiermark\, 8010\, Österreich
CATEGORIES:2026,Stockwerk
ATTACH;FMTTYPE=image/jpeg:https://www.grazjazz.at/wp-content/uploads/2025/11/Subsystem-Casey-Moir_HP.jpg
GEO:47.06777;15.44203
X-APPLE-STRUCTURED-LOCATION;VALUE=URI;X-ADDRESS=Stockwerk Jakominiplatz 18 Graz Steiermark 8010 Österreich;X-APPLE-RADIUS=500;X-TITLE=Jakominiplatz 18:geo:15.44203,47.06777
END:VEVENT
END:VCALENDAR