BEGIN:VCALENDAR
VERSION:2.0
PRODID:-//grazjazz - ECPv5.8.2//NONSGML v1.0//EN
CALSCALE:GREGORIAN
METHOD:PUBLISH
X-WR-CALNAME:grazjazz
X-ORIGINAL-URL:https://www.grazjazz.at
X-WR-CALDESC:Veranstaltungen für grazjazz
BEGIN:VTIMEZONE
TZID:Europe/Berlin
BEGIN:DAYLIGHT
TZOFFSETFROM:+0100
TZOFFSETTO:+0200
TZNAME:CEST
DTSTART:20200329T010000
END:DAYLIGHT
BEGIN:STANDARD
TZOFFSETFROM:+0200
TZOFFSETTO:+0100
TZNAME:CET
DTSTART:20201025T010000
END:STANDARD
END:VTIMEZONE
BEGIN:VEVENT
DTSTART;TZID=Europe/Berlin:20201119T200000
DTEND;TZID=Europe/Berlin:20201119T200000
DTSTAMP:20260423T035450
CREATED:20200731T115543Z
LAST-MODIFIED:20201105T111039Z
UID:638-1605816000-1605816000@www.grazjazz.at
SUMMARY:Abgesagt: EDDIE LUIS & HIS JAZZ PASSENGERS  feat. Philip Kopmayer
DESCRIPTION:The History of Jazz Drums\nfeaturing PHILIPP KOPMAYER (drums) \n\nMilos Milojevic (clarinet\, saxes)\, Matyas Bartha (piano)\, Eddie Luis (bass) \n⇒ Reservierung
URL:https://www.grazjazz.at/event/eluis-jazzdrums/
LOCATION:Stockwerk\, Jakominiplatz 18\, Graz\, Steiermark\, 8010\, Österreich
CATEGORIES:Stockwerk
ATTACH;FMTTYPE=image/png:https://www.grazjazz.at/wp-content/uploads/2020/07/stockwerk512.png
GEO:47.06777;15.44203
X-APPLE-STRUCTURED-LOCATION;VALUE=URI;X-ADDRESS=Stockwerk Jakominiplatz 18 Graz Steiermark 8010 Österreich;X-APPLE-RADIUS=500;X-TITLE=Jakominiplatz 18:geo:15.44203,47.06777
END:VEVENT
BEGIN:VEVENT
DTSTART;TZID=Europe/Berlin:20201119T200000
DTEND;TZID=Europe/Berlin:20201119T200000
DTSTAMP:20260423T035450
CREATED:20200928T074020Z
LAST-MODIFIED:20201105T111039Z
UID:826-1605816000-1605816000@www.grazjazz.at
SUMMARY:Abgesagt: EDDIE LUIS & HIS JAZZ PASSENGERS
DESCRIPTION:Bill Evans Trio at it’s best! – A Tribute to Scott La Faro \n\nOnat Murat (piano)\, Milos Colovic (bass)\, Eddie Luis (drums) \n⇒ Reservierung
URL:https://www.grazjazz.at/event/eluis-jazzdrums-copy/
LOCATION:Stockwerk\, Jakominiplatz 18\, Graz\, Steiermark\, 8010\, Österreich
CATEGORIES:Stockwerk
ATTACH;FMTTYPE=image/png:https://www.grazjazz.at/wp-content/uploads/2020/07/stockwerk512.png
GEO:47.06777;15.44203
X-APPLE-STRUCTURED-LOCATION;VALUE=URI;X-ADDRESS=Stockwerk Jakominiplatz 18 Graz Steiermark 8010 Österreich;X-APPLE-RADIUS=500;X-TITLE=Jakominiplatz 18:geo:15.44203,47.06777
END:VEVENT
END:VCALENDAR