BEGIN:VCALENDAR
VERSION:2.0
PRODID:-//grazjazz - ECPv5.8.2//NONSGML v1.0//EN
CALSCALE:GREGORIAN
METHOD:PUBLISH
X-WR-CALNAME:grazjazz
X-ORIGINAL-URL:https://www.grazjazz.at
X-WR-CALDESC:Veranstaltungen für grazjazz
BEGIN:VTIMEZONE
TZID:Europe/Berlin
BEGIN:DAYLIGHT
TZOFFSETFROM:+0100
TZOFFSETTO:+0200
TZNAME:CEST
DTSTART:20220327T010000
END:DAYLIGHT
BEGIN:STANDARD
TZOFFSETFROM:+0200
TZOFFSETTO:+0100
TZNAME:CET
DTSTART:20221030T010000
END:STANDARD
END:VTIMEZONE
BEGIN:VEVENT
DTSTART;TZID=Europe/Berlin:20220430T193000
DTEND;TZID=Europe/Berlin:20220430T193000
DTSTAMP:20260423T103726
CREATED:20220310T110401Z
LAST-MODIFIED:20220404T100745Z
UID:2237-1651347000-1651347000@www.grazjazz.at
SUMMARY:Anna Reisigl Project
DESCRIPTION:Valerie Costa – Vocals\nFlorian Reider – Piano\nMax Glanz – Sax\nAnna Reisigl – Bass\nRaffael Auer – Drums \na.R-Project ist eine neu gegründete Formation\, die Rhythm-Section mit einer zweistimmigen Einheit aus Gesang und Saxophon vereint. Jedes Mitglied des Quintetts bereichert die Kompositionen und Ideen der Bassistin Anna Reisigl auf individuelle Weise — es entsteht Musik\, die viel Raum für Improvisationen bietet und auf komplexen\nrhythmischen Mustern und Odd Metern aufgebaut ist.
URL:https://www.grazjazz.at/event/anna-reisigl-project/
LOCATION:tube’s\, Grieskai 74a\, Graz\, 8020\, Österreich
ATTACH;FMTTYPE=image/jpeg:https://www.grazjazz.at/wp-content/uploads/2022/03/ARProject_cDino_Bossini_512.jpg
ORGANIZER;CN="FatTuesday":MAILTO:info1@jazzwerkstattgraz.com
END:VEVENT
BEGIN:VEVENT
DTSTART;TZID=Europe/Berlin:20220430T204500
DTEND;TZID=Europe/Berlin:20220430T204500
DTSTAMP:20260423T103726
CREATED:20220310T110525Z
LAST-MODIFIED:20220404T103033Z
UID:2241-1651351500-1651351500@www.grazjazz.at
SUMMARY:Tin Dzaferovic Quartett
DESCRIPTION:Nikola Vukovic – trumpet\nPiotr Lipowicz – guitar\nSebastian Baumgartner – drums\nTin Dzaferovic – double bass \n“Music for Standing/Music for Kneeling” is Tin Dzaferovic’s debut project as a composer and band leader. The band — Nikola Vukovic (trumpet)\, Piotr Lipowicz (guitar)\, Sebastian Baumgartner (drums) and Tin Dzaferovic (double bass) — aims to explore musical and cultural aspects of the sacred in secular music\, and vice versa. Free improvisation in conjunction with through – composed structures creates a specific sound atmosphere that takes the listeners deep into the story behind “Music for Standing/Music for Kneeling”.
URL:https://www.grazjazz.at/event/tin-dzaferovic-quartett/
LOCATION:tube’s\, Grieskai 74a\, Graz\, 8020\, Österreich
ATTACH;FMTTYPE=image/jpeg:https://www.grazjazz.at/wp-content/uploads/2022/03/Tin-Dzaferovic_512.jpg
ORGANIZER;CN="FatTuesday":MAILTO:info1@jazzwerkstattgraz.com
END:VEVENT
BEGIN:VEVENT
DTSTART;TZID=Europe/Berlin:20220430T220000
DTEND;TZID=Europe/Berlin:20220430T220000
DTSTAMP:20260423T103726
CREATED:20220310T110615Z
LAST-MODIFIED:20220404T101501Z
UID:2243-1651356000-1651356000@www.grazjazz.at
SUMMARY:Daniel Varga Quintet
DESCRIPTION:Daniel Varga (HU) – saxophone\nPiotr Lipowicz (PL) – guitar\nIvar Krizic (CRO) – doublebass\nPiotr Budniak (PL) – drums \nThe new album of the Hungarian jazz saxophonist makes it’s international debut: Dániel Varga is an up and coming Hungarian jazz saxophonist and composer. His latest album was created in the spirit of the Hungarian-Polish friendship\, isolated in the mountains of Poland from the world with his Polish-Croatian musicians\, friends. The debut album of the Eastern European Quartet mostly reminds of modern mainstream jazz but it’s combined with contemporary musical influences. A saxophonist and composer who doesn’t care much about music genres – perhaps that’s the sentence\, that Daniel Varga’s name is most associated with in Hungary.\nThe young artist studied in Graz at the University of Music\, where he met with guitarist Piotr Lipowicz and Ivar Krizic bassist\, with whom he has been working ever since. They found each other with Piotr Budniak – the polish drummer – in different projects while touring and playing concerts in Poland with Piotr Lipowicz. So four of them have been working together for nearly a decade\, when finally in 2019 the European Jazz Quartet was founded.\nAfter successful tours and numerous awards the pandemic and the shutdown put a temporary end on the bands workflow. In August 2021 came an opportunity by the Felczak Albums program in Hungary\, and they had a week long isolated recording session at Monochrom Studio. “Although this is my debut album as a jazz saxophonist it also feels like a closure\, because finally there will be room for the new compositions\, sounds and aesthetics. I wrote most of the songs\, and Feels like home and Uitwaaien were composed by Piotr Lipowicz. The compositions are actually a polished version of the songs I wrote during my years at the music academy. Because improvisation plays an important role in my life – and especially in the life of this band – I wrote most of the pieces in such a way\nthat freedom and improvisation could take the lead\, not necessary the composition itself.\nEven though the compositions look back at the times of my academy years\, the improvisation\, the interplay\, and the bands chemistry already suggests the new era and atmosphere. I feel like it was a good decision to play and record these songs now\, that I am 29\, 30 years old. Now I have reached the point where I really feel like I am capable of playing these compositions in a way they deserve to be played. So this album might be a closure\, but also the door to my/our new era. ”- says Daniel Varga.
URL:https://www.grazjazz.at/event/daniel-varga-quintet/
LOCATION:tube’s\, Grieskai 74a\, Graz\, 8020\, Österreich
ATTACH;FMTTYPE=image/jpeg:https://www.grazjazz.at/wp-content/uploads/2022/03/Varga_512.jpg
ORGANIZER;CN="FatTuesday":MAILTO:info1@jazzwerkstattgraz.com
END:VEVENT
END:VCALENDAR