BEGIN:VCALENDAR
VERSION:2.0
PRODID:-//grazjazz - ECPv5.8.2//NONSGML v1.0//EN
CALSCALE:GREGORIAN
METHOD:PUBLISH
X-WR-CALNAME:grazjazz
X-ORIGINAL-URL:https://www.grazjazz.at
X-WR-CALDESC:Veranstaltungen für grazjazz
BEGIN:VTIMEZONE
TZID:Europe/Berlin
BEGIN:DAYLIGHT
TZOFFSETFROM:+0100
TZOFFSETTO:+0200
TZNAME:CEST
DTSTART:20220327T010000
END:DAYLIGHT
BEGIN:STANDARD
TZOFFSETFROM:+0200
TZOFFSETTO:+0100
TZNAME:CET
DTSTART:20221030T010000
END:STANDARD
END:VTIMEZONE
BEGIN:VEVENT
DTSTART;TZID=Europe/Berlin:20220508T200000
DTEND;TZID=Europe/Berlin:20220508T200000
DTSTAMP:20260423T212603
CREATED:20220126T090333Z
LAST-MODIFIED:20220331T094643Z
UID:1977-1652040000-1652040000@www.grazjazz.at
SUMMARY:Trio Amos & Klaus Lang
DESCRIPTION:Klaus Lang – harmonium\nTrio Amos\nSylvie Lacroix –  flute\nMichael Moser – cello\nKrassimir Sterev – accordion \nPROGRAMM\nJohannes Ockeghem (*um 1420/25-1497) / Klaus Lang kyrie eleison. (aus der missa prolationum)\, für Flöte\, Akkordeon\, Violoncello und Harmonium (2019)\nKlaus Lang darkness. freedom. \, für Flöte\, Akkordeon\, Violoncello (2016)\nJohannes Ockeghem/ Klaus Lang mors tu as navré. \, für Harmonium (2019)\nKlaus Lang dreamland. \, Fassung für Flöte\, Akkordeon\, Violoncello und Harmonium (2020\, ÖEA)\nPierre de la Rue (*zw. 1460/70-1518) / Klaus Lang agnus dei. \, für Flöte\, Akkordeon\, Violoncello und Harmonium (2019)\nKlaus Lang origami. \, für Flöte\, Akkordeon und Violoncello (2011) \nDas Zusammenfinden der drei Instrumente Flöte\, Akkordeon und Violoncello und der drei Musiker zur festen Besetzung des Wiener Trio Amos geht auf Bernhard Lang zurück. Er hatte Ende der 1990er Jahre zunächst einen Zyklus aus drei Solo-Stücken Schrift 1\, 2 und 3 für diese Instrumente und Musiker geschrieben und komponierte dann 2000 mit Differenz/Wiederholung 3 das erste Werk für diese Besetzung. Seitdem bemüht sich Trio Amos stetig um Erweiterung des Repertoires durch die Anregung von Komponisten\, für diese Besetzung zu schreiben. \nBei „open music“ gastiert das Trio nunmehr gemeinsam mit Klaus Lang am Harmonium. Dabei stehen nicht nur drei Werke des Grazer Komponisten\, der an der Kunstuniversität Graz eine Professur für Komposition mit Schwerpunkt kirchliche Komposition innehält\, am Programm\, sondern auch von ihm arrangierte Stücke zweier solitärer Komponisten der Rennaissance: Pierre de la Rue\, einem Meister auf dem Gebiet der älteren Kanon- und Cantus firmus-Techniken\, und Johannes Ockeghem\, der\, selbst Kleriker wie auch im höfischen Dienste stehend\, ebenfalls eine Vielzahl von Messen schuf. Das Verständnis von Klang und Musik als für sich stehend\, keinen außermusikalischen Inhalten dienend\, als durch das Klingen wahrgenommene Zeit\, als zeitliches Phänomen\, als hörbare Zeit\, als für sich stehendes akustisches „Objekt“\, ist zentral für den Komponisten Klaus Lang. Klang wird dadurch „die Möglichkeit gegeben\, seine ihm innewohnende reiche Schönheit zu entfalten“. Reduktion\, pure Musik\, feinste klangliche Objekte … Musik\, die die Wahrnehmung neu ausrichtet – aufgeführt im auch akustisch idealen Ambiente des Museum der Wahrnehmung\, in dem im Zuge des Konzertbesuchs auch gerne die Ausstellung von Belinda Cadbury kostenlos besichtigt werden kann. \nLINK: Klaus Lang\nTICKETS\nKartenreservierung Corona bedingt herzlich erbeten. Nähere Informationen dazu finden Sie unter\nhttp://www.openmusic.at/tickets.html \n€ 16 | € 11* | € 6**\n* SchülerInnen\, StudentInnen\, Präsenz-/Zivildiener und Arbeitslose mit gültigem Ausweis\n** MusikstudentInnen mit gültigem Ausweis an der Abendkassa sowie Kinder bis 10 Jahre\n*** Eintritt frei für Hunger auf Kunst & Kultur an der Abendkassa ab 15 Minuten vor Konzertbeginn \nAbendkassa\nDie Abendkassa öffnet 30 Minuten vor Konzertbeginn \nVorverkauf\nZentralkartenbüro \nReservierungen\nE-Mail
URL:https://www.grazjazz.at/event/trio-amos-klaus-lang/
LOCATION:MUWA\, Friedrichgasse 41\, Graz\, 8010
CATEGORIES:open music
ATTACH;FMTTYPE=image/jpeg:https://www.grazjazz.at/wp-content/uploads/2022/01/Trio-Amos-Klaus-Lang.jpg
ORGANIZER;CN="open%20music":MAILTO:ute.pinter@openmusic.at
END:VEVENT
END:VCALENDAR