BEGIN:VCALENDAR
VERSION:2.0
PRODID:-//grazjazz - ECPv5.8.2//NONSGML v1.0//EN
CALSCALE:GREGORIAN
METHOD:PUBLISH
X-WR-CALNAME:grazjazz
X-ORIGINAL-URL:https://www.grazjazz.at
X-WR-CALDESC:Veranstaltungen für grazjazz
BEGIN:VTIMEZONE
TZID:Europe/Berlin
BEGIN:DAYLIGHT
TZOFFSETFROM:+0100
TZOFFSETTO:+0200
TZNAME:CEST
DTSTART:20220327T010000
END:DAYLIGHT
BEGIN:STANDARD
TZOFFSETFROM:+0200
TZOFFSETTO:+0100
TZNAME:CET
DTSTART:20221030T010000
END:STANDARD
END:VTIMEZONE
BEGIN:VEVENT
DTSTART;TZID=Europe/Berlin:20220603T200000
DTEND;TZID=Europe/Berlin:20220603T200000
DTSTAMP:20260422T102647
CREATED:20220317T093458Z
LAST-MODIFIED:20220331T101944Z
UID:2295-1654286400-1654286400@www.grazjazz.at
SUMMARY:VESNA PISAROVIC TRIO (BiH/F/US)
DESCRIPTION:Sevdah Project\n\nVesna Pisarovic – vocals\nNoel Akchote – guitar\nGreg Cohen – bass \n⇒ Reservierung \n 
URL:https://www.grazjazz.at/event/vesna-pisarovic-trio/
LOCATION:Stockwerk\, Jakominiplatz 18\, Graz\, Steiermark\, 8010\, Österreich
CATEGORIES:Stockwerk
ATTACH;FMTTYPE=image/jpeg:https://www.grazjazz.at/wp-content/uploads/2022/03/Vesna1.jpg
GEO:47.06777;15.44203
X-APPLE-STRUCTURED-LOCATION;VALUE=URI;X-ADDRESS=Stockwerk Jakominiplatz 18 Graz Steiermark 8010 Österreich;X-APPLE-RADIUS=500;X-TITLE=Jakominiplatz 18:geo:15.44203,47.06777
END:VEVENT
END:VCALENDAR