BEGIN:VCALENDAR
VERSION:2.0
PRODID:-//grazjazz - ECPv5.8.2//NONSGML v1.0//EN
CALSCALE:GREGORIAN
METHOD:PUBLISH
X-WR-CALNAME:grazjazz
X-ORIGINAL-URL:https://www.grazjazz.at
X-WR-CALDESC:Veranstaltungen für grazjazz
BEGIN:VTIMEZONE
TZID:Europe/Berlin
BEGIN:DAYLIGHT
TZOFFSETFROM:+0100
TZOFFSETTO:+0200
TZNAME:CEST
DTSTART:20220327T010000
END:DAYLIGHT
BEGIN:STANDARD
TZOFFSETFROM:+0200
TZOFFSETTO:+0100
TZNAME:CET
DTSTART:20221030T010000
END:STANDARD
END:VTIMEZONE
BEGIN:VEVENT
DTSTART;TZID=Europe/Berlin:20221105T200000
DTEND;TZID=Europe/Berlin:20221105T200000
DTSTAMP:20260421T110628
CREATED:20220926T085200Z
LAST-MODIFIED:20221031T071110Z
UID:3085-1667678400-1667678400@www.grazjazz.at
SUMMARY:ABGESAGT! - SARAH BUECHI SEPTETT (CH)
DESCRIPTION:Sarah Buechi – voice\nVincent Membrez – piano\nRafael Jerjen – bass\nLionel Friedli – drums\nEstelle Beiner – violine\nIsabelle Gottraux – viola\nSara Oswald – cello \nContradiction Of Happiness\nKlassische Intonation\, Jazzvokalismen und Sprechgesang bis hin zu Elementen aus der indischen Musik finden sich in den Kompositionen von Sarah Buechi. Forschend und eigenwillig ist das Quartett der Schweizer Sängerin nun mit Streichern zum Septett angewachsen. \n⇒ Reservierung \n 
URL:https://www.grazjazz.at/event/sarah-buechi-septett/
LOCATION:Stockwerk\, Jakominiplatz 18\, Graz\, Steiermark\, 8010\, Österreich
CATEGORIES:Stockwerk
ATTACH;FMTTYPE=image/png:https://www.grazjazz.at/wp-content/uploads/2022/09/SarahBuechiSeptett.png
GEO:47.06777;15.44203
X-APPLE-STRUCTURED-LOCATION;VALUE=URI;X-ADDRESS=Stockwerk Jakominiplatz 18 Graz Steiermark 8010 Österreich;X-APPLE-RADIUS=500;X-TITLE=Jakominiplatz 18:geo:15.44203,47.06777
END:VEVENT
BEGIN:VEVENT
DTSTART;TZID=Europe/Berlin:20221105T200000
DTEND;TZID=Europe/Berlin:20221105T200000
DTSTAMP:20260421T110628
CREATED:20221003T084036Z
LAST-MODIFIED:20221005T063032Z
UID:3174-1667678400-1667678400@www.grazjazz.at
SUMMARY:DUO FORTIS
DESCRIPTION:Lejla Fitozovic – piano\, \nEdina Sadikovic – flute\n \nDie beiden Musikerinner kennen sich von ihren Jugendtagen am Musikgymnasium in Sarajevo und trafen sich Jahre später während des Studiums an der Grazer Kunstuniversität wieder. In ihrem Duoprogramm überschreiten sie musikalisch-sprachliche Grenzen und setzen in ihrem Repertoire auf kulturelle Vielfalt\, in dem sie klassische Werke\, Tangos mit jazzigen Anleihen und Klänge bosnischer Musik spielen.
URL:https://www.grazjazz.at/event/duo-fortis/
LOCATION:WIST / mo.xx\, Moserhofgasse 34\, Graz\, 8010\, Österreich
CATEGORIES:Berndt Luef,WIST
ATTACH;FMTTYPE=image/jpeg:https://www.grazjazz.at/wp-content/uploads/2022/10/1duo-fortis-578x400-1.jpg
ORGANIZER;CN="Berndt%20Luef":MAILTO:luef@mur.at
GEO:47.06084;15.45521
X-APPLE-STRUCTURED-LOCATION;VALUE=URI;X-ADDRESS=WIST / mo.xx Moserhofgasse 34 Graz 8010 Österreich;X-APPLE-RADIUS=500;X-TITLE=Moserhofgasse 34:geo:15.45521,47.06084
END:VEVENT
BEGIN:VEVENT
DTSTART;TZID=Europe/Berlin:20221105T213000
DTEND;TZID=Europe/Berlin:20221105T213000
DTSTAMP:20260421T110628
CREATED:20221003T084933Z
LAST-MODIFIED:20221005T061943Z
UID:3178-1667683800-1667683800@www.grazjazz.at
SUMMARY:CLUB MINEUR: Hot Jazz aus Graz
DESCRIPTION:Michael Leitner – violin\,\nSimon Reithofer – guitar\,\nFelix Greilberger – guitar\,\nDomnik Simon – guitar\,\nLukas Straußberger – bass \nGanz im Zeichen von Django Reinhardt und seinem legendären Hot Club de France widmet sich das Ensemble rund um den Gitarristen Simon Reithofer und den Geiger Michael Leitner der Tradition jener Musik\, die heute als Gypsy-Jazz firmiert. Der Club Mineur trägt die Tradition dieser Musik weiter und bemüht sich dieser durch eine sehr authentische Spielweise gerecht zu werden. \nKompositionen von Reinhardt\, Musik aus der Swingära und traditionelle Lieder der Sinti und Roma bilden das Fundament für melancholisch zarte Klänge die sich mit akrobatischen Improvisationen kontrastieren.
URL:https://www.grazjazz.at/event/club-mineur-hot-jazz-aus-graz/
LOCATION:WIST / mo.xx\, Moserhofgasse 34\, Graz\, 8010\, Österreich
CATEGORIES:Berndt Luef,WIST
ATTACH;FMTTYPE=image/jpeg:https://www.grazjazz.at/wp-content/uploads/2022/10/Club-MIneur-Reithofer-media-41.jpg
ORGANIZER;CN="Berndt%20Luef":MAILTO:luef@mur.at
GEO:47.06084;15.45521
X-APPLE-STRUCTURED-LOCATION;VALUE=URI;X-ADDRESS=WIST / mo.xx Moserhofgasse 34 Graz 8010 Österreich;X-APPLE-RADIUS=500;X-TITLE=Moserhofgasse 34:geo:15.45521,47.06084
END:VEVENT
END:VCALENDAR