BEGIN:VCALENDAR
VERSION:2.0
PRODID:-//grazjazz - ECPv5.8.2//NONSGML v1.0//EN
CALSCALE:GREGORIAN
METHOD:PUBLISH
X-WR-CALNAME:grazjazz
X-ORIGINAL-URL:https://www.grazjazz.at
X-WR-CALDESC:Veranstaltungen für grazjazz
BEGIN:VTIMEZONE
TZID:Europe/Berlin
BEGIN:DAYLIGHT
TZOFFSETFROM:+0100
TZOFFSETTO:+0200
TZNAME:CEST
DTSTART:20220327T010000
END:DAYLIGHT
BEGIN:STANDARD
TZOFFSETFROM:+0200
TZOFFSETTO:+0100
TZNAME:CET
DTSTART:20221030T010000
END:STANDARD
END:VTIMEZONE
BEGIN:VEVENT
DTSTART;TZID=Europe/Berlin:20221112T200000
DTEND;TZID=Europe/Berlin:20221112T200000
DTSTAMP:20260421T095946
CREATED:20220926T085914Z
LAST-MODIFIED:20221028T064151Z
UID:3093-1668283200-1668283200@www.grazjazz.at
SUMMARY:I AM THREE (D) - Mingus\, Mingus\, Mingus
DESCRIPTION:Maggie Nicols – vovals\nSilke Eberhard – alto sax\nNikolaus Neuser – trumpet\nChristian Marien – drums \nI AM THREE\nMingus Mingus Mingus\nMingus Mingus Mingus Mingus Mingus ist eine Platte von Charles Mingus aus dem Jahr1963. Gerademal vier Jahre alt ist Mingus Mingus Mingus\, ein Album des Berliner Tios I Am Three. „In other words I am three“\, steht am Beginn von Mingus´Autobiographie. Also alles Gute zum 100. Geburtstag\, Charles! \n⇒ Reservierung \n 
URL:https://www.grazjazz.at/event/i-am-three/
LOCATION:Stockwerk\, Jakominiplatz 18\, Graz\, Steiermark\, 8010\, Österreich
CATEGORIES:Stockwerk
ATTACH;FMTTYPE=image/jpeg:https://www.grazjazz.at/wp-content/uploads/2022/09/Iamthree1.jpg
GEO:47.06777;15.44203
X-APPLE-STRUCTURED-LOCATION;VALUE=URI;X-ADDRESS=Stockwerk Jakominiplatz 18 Graz Steiermark 8010 Österreich;X-APPLE-RADIUS=500;X-TITLE=Jakominiplatz 18:geo:15.44203,47.06777
END:VEVENT
BEGIN:VEVENT
DTSTART;TZID=Europe/Berlin:20221112T200000
DTEND;TZID=Europe/Berlin:20221112T200000
DTSTAMP:20260421T095946
CREATED:20221003T101051Z
LAST-MODIFIED:20221003T101857Z
UID:3208-1668283200-1668283200@www.grazjazz.at
SUMMARY:MAUERHOFER - GRATZER - MEINHART
DESCRIPTION:Georg Gratzer – woodwinds\,\nThomas Mauerhofer – guitars\,\nRaphael Meinhart – mallets \nGetragene und archaische Melodien\, die über endlos mäandernden Patterns von Marimba\, E- Gitarre und Woodwinds schweben\, so könnte man die Musik\, die Mauerhofer/Gratzer/Meinhart auf ihrem Album\n„Freiheitsplatz 1“ spielen\, in einem Satz beschreiben. \nInspiriert von den Parade-Minimalisten Steve Reich\, Terry Riley und Philipp Glass\, aber auch von neueren Vertretern wie Sam Shackleton und Nils Frahm\, kreieren die drei Musiker\, die seit vielen Jahren zusammenspielen\, eine ganz eigene Form der Minimal Music: Melancholic Minimal“. \nDie Basis bilden polymetrische Marimba-Patterns\, bei denen man als Hörer schnell mal die „1“ verliert – das ist gewollt\, denn es schafft die Voraussetzung\, um bildlich gesprochen im schwerelosen Raum zu schweben. Melodiefragmente auf der zum Teil verzerrten E-Gitarre sowie auf Tenorsaxophon und Querflöte\, die sich gekonnt verschachteln und überlappen\, bilden gemeinsam mit dem Marimba und sparsam aber effektiv eingesetzer Elektronik ein hypnotisches Kaleidoskop aus Rhythmus und Klang. \nWie aus dem Nichts schälen sich aus diesen Soundstrukturen plötzlich elegische Melodien\, die dem Ganzen noch einmal eine tiefere Ebene verleihen\, sei es bei „Charlotte Gainsbourg“\, bei dem man nach einer langen \, manchmal fast mathematisch anmutenden „Einleitung“ schlussendlich beim gleichzeitigen Einsatz von Bassdrum und Melodie von Tenorsaxophon und Gitarre das Gefühl hat\, als würde man nach einem langen und anstrengen Berg-Aufstieg plötzlich die unendlichen Weiten des Gebirges erblicken oder bei „Vesna Petkovic“\, wo man nach mächtigem Beginn und allmählichem Zerbröckeln in einen 2-stimmigen Kanon auf einmal mit einem U-Boot zum Mariannengraben abtaucht. \nLinks: \nmauerhofermusic.com\ngeorg-gratzer.com\nraphaelmeinhart.com \nVorabreservierung erbeten.\nTickets: tubes-music.at
URL:https://www.grazjazz.at/event/mauerhofer-gratzer-meinhart/
LOCATION:tube’s\, Grieskai 74a\, Graz\, 8020\, Österreich
CATEGORIES:gamsbART,tube's
ATTACH;FMTTYPE=image/jpeg:https://www.grazjazz.at/wp-content/uploads/2022/10/20221112_MGMKurtRemling.jpeg
ORGANIZER;CN="gamsbART":MAILTO:office@gamsbartjazz.at
END:VEVENT
END:VCALENDAR