BEGIN:VCALENDAR
VERSION:2.0
PRODID:-//grazjazz - ECPv5.8.2//NONSGML v1.0//EN
CALSCALE:GREGORIAN
METHOD:PUBLISH
X-WR-CALNAME:grazjazz
X-ORIGINAL-URL:https://www.grazjazz.at
X-WR-CALDESC:Veranstaltungen für grazjazz
BEGIN:VTIMEZONE
TZID:Europe/Berlin
BEGIN:DAYLIGHT
TZOFFSETFROM:+0100
TZOFFSETTO:+0200
TZNAME:CEST
DTSTART:20220327T010000
END:DAYLIGHT
BEGIN:STANDARD
TZOFFSETFROM:+0200
TZOFFSETTO:+0100
TZNAME:CET
DTSTART:20221030T010000
END:STANDARD
END:VTIMEZONE
BEGIN:VEVENT
DTSTART;TZID=Europe/Berlin:20221119T110000
DTEND;TZID=Europe/Berlin:20221119T110000
DTSTAMP:20260421T110726
CREATED:20220930T080931Z
LAST-MODIFIED:20221112T114417Z
UID:3128-1668855600-1668855600@www.grazjazz.at
SUMMARY:Kinderkonzert: DIE ENTZAUBERUNG DER INSTRUMENTE
DESCRIPTION:Katharina Maier – Saxophon & Konzept\nYuliya Kupryianava – E-Gitarre\nDomagoj Ivankovic – Kontrabass\nElias Pivec – Schlagzeug\nUrsula Reicher – Gesang & Konzept \nGemeinsam mit Hexe Griselda werdet ihr schon sehr lang verstummten Instrumenten dabei helfen\, wieder neu zu erklingen und diese kennenlernen. \nEin interaktives Stück für Kinder von 5-9 Jahre.
URL:https://www.grazjazz.at/event/die-entzauberung-der-instrumente/
LOCATION:Stockwerk\, Jakominiplatz 18\, Graz\, Steiermark\, 8010\, Österreich
ATTACH;FMTTYPE=image/jpeg:https://www.grazjazz.at/wp-content/uploads/2022/09/Entzauberung-der-Instrumente_1.jpg
ORGANIZER;CN="Jazzwerkstatt%20Graz":MAILTO:info1@jazzwerkstattgraz.com
GEO:47.06777;15.44203
X-APPLE-STRUCTURED-LOCATION;VALUE=URI;X-ADDRESS=Stockwerk Jakominiplatz 18 Graz Steiermark 8010 Österreich;X-APPLE-RADIUS=500;X-TITLE=Jakominiplatz 18:geo:15.44203,47.06777
END:VEVENT
BEGIN:VEVENT
DTSTART;TZID=Europe/Berlin:20221119T200000
DTEND;TZID=Europe/Berlin:20221119T200000
DTSTAMP:20260421T110726
CREATED:20220930T081047Z
LAST-MODIFIED:20220930T082749Z
UID:3131-1668888000-1668888000@www.grazjazz.at
SUMMARY:JAKOMINI JAZZ TRIO
DESCRIPTION:Zan Cesar – trumpet\nTilen Gavranovic – guitar\nJernej Vindsnurer – bass \nDie Idee zu diesem ungewöhnlichen Trio kam\, als man am Jakominiplatz auf die Bim gewartet hat. Und es war der Wunsch da\, endlich wieder zusammen zu spielen. Das Ergebnis der durchgeprobten Nächte kann sich sehen und hören lassen: Neue\, berührende Klänge und Kompositionen mitten aus dem Herzen von Graz!
URL:https://www.grazjazz.at/event/jakomini-jazz-trio-2/
LOCATION:Stockwerk\, Jakominiplatz 18\, Graz\, Steiermark\, 8010\, Österreich
ATTACH;FMTTYPE=image/jpeg:https://www.grazjazz.at/wp-content/uploads/2022/06/20220727_Jakomini_Jazz_by_gamsbART.jpeg
ORGANIZER;CN="Jazzwerkstatt%20Graz":MAILTO:info1@jazzwerkstattgraz.com
GEO:47.06777;15.44203
X-APPLE-STRUCTURED-LOCATION;VALUE=URI;X-ADDRESS=Stockwerk Jakominiplatz 18 Graz Steiermark 8010 Österreich;X-APPLE-RADIUS=500;X-TITLE=Jakominiplatz 18:geo:15.44203,47.06777
END:VEVENT
BEGIN:VEVENT
DTSTART;TZID=Europe/Berlin:20221119T213000
DTEND;TZID=Europe/Berlin:20221119T213000
DTSTAMP:20260421T110726
CREATED:20220930T081339Z
LAST-MODIFIED:20220930T083116Z
UID:3134-1668893400-1668893400@www.grazjazz.at
SUMMARY:TRIPLE H SOCIETY
DESCRIPTION:Viola Hammer – Composition\, Piano\, Keys\nTobias Hoffmann – Composition\, Soprano Saxophone\, Tenor Saxophone\, Clarinet\, Flute\nJakob Helling – Composition\, Trumpet\, Flugelhorn\, Mellotron\nPatrick Dunst – Soprano Saxophone\, Alto Saxophone\, Clarinet\, Flute\nFlorian Bauer – Baritone Saxophone\, Bass Clarinet\nGerhard Ornig – Trumpet\, Flugelhorn\nDaniel Holzleitner – Trombone\nPhil Maier – Guitar\nDavid Dolliner – Bass\nReini Schmölzer – Drums\n \nThe “Triple H Society” is a new large ensemble founded by Viola Hammer\, Jakob Helling and Tobias Hoffmann and based in Graz. The repertoire consists of compositions and arrangements by the musical directors. Despite the different musical backgrounds of the three initiators\, they create a new\, fresh and homogeneous band sound: just as acoustic as electric\, as graceful\, big or grooving as wild and free. \nThe music is not solely influenced by contemporary jazz. Rather\, it is intended that influences from popular\, electronic but also classical music / “contemporary classical” find their place in the music. \nThe Society is made up of top-class musicians from the Austrian jazz scene\, who have already played together in various formations and know each other musically. Thus\, energetic solos\, exact ensemble playing and rousing grooves are pre-programmed and the audience can look forward to an entertaining and varied concert evening.
URL:https://www.grazjazz.at/event/triple-h-society/
LOCATION:Stockwerk\, Jakominiplatz 18\, Graz\, Steiermark\, 8010\, Österreich
ATTACH;FMTTYPE=image/jpeg:https://www.grazjazz.at/wp-content/uploads/2022/09/Triple-H-Society_Simon-Reithofer.jpg
ORGANIZER;CN="Jazzwerkstatt%20Graz":MAILTO:info1@jazzwerkstattgraz.com
GEO:47.06777;15.44203
X-APPLE-STRUCTURED-LOCATION;VALUE=URI;X-ADDRESS=Stockwerk Jakominiplatz 18 Graz Steiermark 8010 Österreich;X-APPLE-RADIUS=500;X-TITLE=Jakominiplatz 18:geo:15.44203,47.06777
END:VEVENT
END:VCALENDAR