BEGIN:VCALENDAR
VERSION:2.0
PRODID:-//grazjazz - ECPv5.8.2//NONSGML v1.0//EN
CALSCALE:GREGORIAN
METHOD:PUBLISH
X-WR-CALNAME:grazjazz
X-ORIGINAL-URL:https://www.grazjazz.at
X-WR-CALDESC:Veranstaltungen für grazjazz
BEGIN:VTIMEZONE
TZID:Europe/Berlin
BEGIN:DAYLIGHT
TZOFFSETFROM:+0100
TZOFFSETTO:+0200
TZNAME:CEST
DTSTART:20240331T010000
END:DAYLIGHT
BEGIN:STANDARD
TZOFFSETFROM:+0200
TZOFFSETTO:+0100
TZNAME:CET
DTSTART:20241027T010000
END:STANDARD
END:VTIMEZONE
BEGIN:VEVENT
DTSTART;TZID=Europe/Berlin:20240807T193000
DTEND;TZID=Europe/Berlin:20240807T193000
DTSTAMP:20260423T163859
CREATED:20240624T063038Z
LAST-MODIFIED:20240627T100048Z
UID:5674-1723059000-1723059000@www.grazjazz.at
SUMMARY:Max Glanz Band: Origina1Nerd
DESCRIPTION:Max Glanz – Saxophones\,\nAndreas Erd – Guitar\,\nThomas Quendler – Keys\,\nJakob Gönitzer – Bass\,\nJonas Kočnik – Drums \nOrigina1Nerd – the name of the band can be traced back to the past of each band member since they not only share a common affinity for music\, but also for various technical and nerdy matters. Now in the union of the five young musicians the goal was set to compose\, arrange and present unique music. The result of this process is their debut album „Unknown Error“\, a mixture of harmonic concepts and improvisation of jazz\, compositional as well as rhythmic elements of progressive rock\, emulsified with the help of a wide range of sounds of electronic music. Therefore\, the term Progressive Jazz seemed to be appropriate.Their work on „Unknown Error“ also was acknowledged by the Jury of Ton Art Tirol bestowing the band and its musical leader Max Glanz with the Tyrolian Youth Jazz Award 2022.
URL:https://www.grazjazz.at/event/max-glanz-band-origina1nerd/
LOCATION:Generalihof\, Generalihof 9\, Graz\, Steiermark\, 8010
CATEGORIES:gamsbART,Generalihof Konzerte
ATTACH;FMTTYPE=image/jpeg:https://www.grazjazz.at/wp-content/uploads/2024/06/07.08.jpg
ORGANIZER;CN="gamsbART":MAILTO:office@gamsbartjazz.at
END:VEVENT
END:VCALENDAR