BEGIN:VCALENDAR
VERSION:2.0
PRODID:-//grazjazz - ECPv5.8.2//NONSGML v1.0//EN
CALSCALE:GREGORIAN
METHOD:PUBLISH
X-WR-CALNAME:grazjazz
X-ORIGINAL-URL:https://www.grazjazz.at
X-WR-CALDESC:Veranstaltungen für grazjazz
BEGIN:VTIMEZONE
TZID:Europe/Berlin
BEGIN:DAYLIGHT
TZOFFSETFROM:+0100
TZOFFSETTO:+0200
TZNAME:CEST
DTSTART:20230326T010000
END:DAYLIGHT
BEGIN:STANDARD
TZOFFSETFROM:+0200
TZOFFSETTO:+0100
TZNAME:CET
DTSTART:20231029T010000
END:STANDARD
END:VTIMEZONE
BEGIN:VEVENT
DTSTART;TZID=Europe/Berlin:20230109T200000
DTEND;TZID=Europe/Berlin:20230109T200000
DTSTAMP:20260424T135719
CREATED:20221213T094617Z
LAST-MODIFIED:20230104T132601Z
UID:3479-1673294400-1673294400@www.grazjazz.at
SUMMARY:IBOLYA NEMETH DUO
DESCRIPTION:Ibolya Nemeth – Voice\,\nMarkus Neuwirth – Piano\n  \nTickets an der Abendkassa
URL:https://www.grazjazz.at/event/ibolya-nemeth-duo/
LOCATION:WIST / mo.xx\, Moserhofgasse 34\, Graz\, 8010\, Österreich
CATEGORIES:KUG,WIST
ATTACH;FMTTYPE=image/jpeg:https://www.grazjazz.at/wp-content/uploads/2022/12/markus-neuwirth_HP.jpg
GEO:47.06084;15.45521
X-APPLE-STRUCTURED-LOCATION;VALUE=URI;X-ADDRESS=WIST / mo.xx Moserhofgasse 34 Graz 8010 Österreich;X-APPLE-RADIUS=500;X-TITLE=Moserhofgasse 34:geo:15.45521,47.06084
END:VEVENT
BEGIN:VEVENT
DTSTART;TZID=Europe/Berlin:20230110T200000
DTEND;TZID=Europe/Berlin:20230110T200000
DTSTAMP:20260424T135719
CREATED:20221213T095624Z
LAST-MODIFIED:20221213T123015Z
UID:3482-1673380800-1673380800@www.grazjazz.at
SUMMARY:ENSEMBLE NIGHT
DESCRIPTION:Leitung: Johannes BERAUER & Danny ZIEMANN \nTickets an der Abendkassa
URL:https://www.grazjazz.at/event/ensemble-night-8/
LOCATION:WIST / mo.xx\, Moserhofgasse 34\, Graz\, 8010\, Österreich
CATEGORIES:KUG,WIST
ATTACH;FMTTYPE=image/jpeg:https://www.grazjazz.at/wp-content/uploads/2022/04/KUG-Ensemble_512.jpg
GEO:47.06084;15.45521
X-APPLE-STRUCTURED-LOCATION;VALUE=URI;X-ADDRESS=WIST / mo.xx Moserhofgasse 34 Graz 8010 Österreich;X-APPLE-RADIUS=500;X-TITLE=Moserhofgasse 34:geo:15.45521,47.06084
END:VEVENT
BEGIN:VEVENT
DTSTART;TZID=Europe/Berlin:20230111T200000
DTEND;TZID=Europe/Berlin:20230111T200000
DTSTAMP:20260424T135719
CREATED:20221213T100220Z
LAST-MODIFIED:20221213T122938Z
UID:3485-1673467200-1673467200@www.grazjazz.at
SUMMARY:ENSEMBLE NIGHT
DESCRIPTION:Leitung: Heinrich von KALNEIN \nTickets an der Abendkassa
URL:https://www.grazjazz.at/event/ensemble-night-9/
LOCATION:WIST / mo.xx\, Moserhofgasse 34\, Graz\, 8010\, Österreich
CATEGORIES:KUG,WIST
ATTACH;FMTTYPE=image/jpeg:https://www.grazjazz.at/wp-content/uploads/2020/11/TheThing_Evans_Fernandez_005-web.jpg
GEO:47.06084;15.45521
X-APPLE-STRUCTURED-LOCATION;VALUE=URI;X-ADDRESS=WIST / mo.xx Moserhofgasse 34 Graz 8010 Österreich;X-APPLE-RADIUS=500;X-TITLE=Moserhofgasse 34:geo:15.45521,47.06084
END:VEVENT
BEGIN:VEVENT
DTSTART;TZID=Europe/Berlin:20230111T200000
DTEND;TZID=Europe/Berlin:20230111T200000
DTSTAMP:20260424T135719
CREATED:20221222T103325Z
LAST-MODIFIED:20221228T140357Z
UID:3589-1673467200-1673467200@www.grazjazz.at
SUMMARY:GROSSMÜTTERCHEN HATZ 'tanzt' mit Berndt LUEF
DESCRIPTION:Franziska Hatz – Akkordeon\, Stimme\,\nRichie Winkler – Saxophon\, Klarinette\, Stimme\,\nAndrea Fränzel – Bass\, Stimme\,\nSaša Nikolic – Schlagzeug\, Stimme\,\nGast: Berndt Luef – Vibraphon \nMit Großmütterchen Hatz ‚tanzt‘ möchten die vier MusikerInnen ein weiteres Zeichen für die Freude an tanzbarer Musik setzen.\nDabei dürfen wie gewohnt Momente aus traditioneller Musik nicht fehlen – und dennoch werden die neuen Kompositionen im Hier und Jetzt angekommen sein.\nNach diesen musikalisch herausfordernden Zeiten – antwortet die Formation mit neuer Besetzung also frei nach Pina Bausch: \n„Tanzt\, tanzt sonst seid ihr verloren!“ \n  \n 
URL:https://www.grazjazz.at/event/grossmuetterchen-hatz-mit-berndt-luef/
LOCATION:tube’s\, Grieskai 74a\, Graz\, 8020\, Österreich
CATEGORIES:Berndt Luef,tube's
ATTACH;FMTTYPE=image/jpeg:https://www.grazjazz.at/wp-content/uploads/2022/01/image-3.jpg
END:VEVENT
BEGIN:VEVENT
DTSTART;TZID=Europe/Berlin:20230112T200000
DTEND;TZID=Europe/Berlin:20230112T200000
DTSTAMP:20260424T135719
CREATED:20221212T130124Z
LAST-MODIFIED:20221228T135957Z
UID:3428-1673553600-1673553600@www.grazjazz.at
SUMMARY:SOKAL - DEUTSCH - WRESSNIG - Groove
DESCRIPTION:Harry Sokal – tenor sax\,\nRaphael Wressnig – Hammond B-3 organ\,\nAlex Deutsch – drums \nHarry Sokal hinterließ in der Vergangenheit bereits etliche „footprints“ in der  internationalen Musiklandschaft – mit eigenen  innovativen Projekten wie Depart\, Full Circle\, Roots Ahead Voices\, als kompetenter Sideman bei  Art Farmer\,  Carla Bley oder Joe Zawinul – und vor allem durch sein virtuoses Spiel im Vienna Art Orchestra. Sein aktuelles Projekt nennt er programmatisch „Groove”. Das Album trägt den vielversprechenden Titel „Where sparks start to fly“ – und Harry Sokal erfüllt wie immer alle Erwartungen! Und zwar in erster Linie\, weil er es wie wenige andere versteht\, individuelle technische Perfektion in den Dienst der musikalischen Sache zu stellen. Ein „musician’s musician“ par excellence\, für den es primär um den Inhalt und erst sekundär um den Applaus geht. \nRaphael Wressnig ist durch sein einzigartiges\, druckvolles Spiel auf der Original Vintage Hammond zum Inbegriff eines modernen Hammond-Organisten geworden. 5 Mal wurde der steirische Musiker bereits beim Critics-Poll der Jazz-Bibel DownBeat als „Best Organ Player of the Year“ nominiert. Er vermengt authentisches Blues-Feeling mit zeitgemäßer Funkiness\, repräsentiert eine Schnittstelle zwischen Soul\, Jazz und Funk und greift schamlos ins Glückszentrum des Musikhörerhirns. \nAlex Deutsch lebt nach Jahren in den USA nun wieder in Österreich und macht hier sowohl als einer der besten Drummer (Hans Koller-Preisträger als Musiker des Jahres 2006) als auch als Produzent (Anna F.\, Cafe Drechsler\, etc) von sich reden. Gemeinsam sind Harry Sokal\, Raphael Wressnig und Alex Deutsch „Groove“ – und das tun sie auch\, bis die Funken sprühen … \nVorabreservierung erbeten.\nTickets: tubes-music.at
URL:https://www.grazjazz.at/event/sokal-deutsch-wressnig/
LOCATION:tube’s\, Grieskai 74a\, Graz\, 8020\, Österreich
CATEGORIES:gamsbART,tube's
ATTACH;FMTTYPE=image/jpeg:https://www.grazjazz.at/wp-content/uploads/2022/12/20220113_Groove_by_Mirjam_Koch_hp.jpg
ORGANIZER;CN="gamsbART":MAILTO:office@gamsbartjazz.at
END:VEVENT
BEGIN:VEVENT
DTSTART;TZID=Europe/Berlin:20230112T230000
DTEND;TZID=Europe/Berlin:20230112T230000
DTSTAMP:20260424T135719
CREATED:20221213T100344Z
LAST-MODIFIED:20221213T112640Z
UID:3488-1673564400-1673564400@www.grazjazz.at
SUMMARY:Jam Session mit Heinrich von KALNEIN
DESCRIPTION:  \n 
URL:https://www.grazjazz.at/event/jam-session-mit-heinrich-von-kalnein/
LOCATION:Theatercafe\, Mandellstraße 11\, Graz\, Steiermark\, 8010
CATEGORIES:KUG
ATTACH;FMTTYPE=image/jpeg:https://www.grazjazz.at/wp-content/uploads/2022/12/Kalnein_HP.jpg
END:VEVENT
BEGIN:VEVENT
DTSTART;TZID=Europe/Berlin:20230113T200000
DTEND;TZID=Europe/Berlin:20230113T200000
DTSTAMP:20260424T135719
CREATED:20221212T130501Z
LAST-MODIFIED:20221228T140044Z
UID:3432-1673640000-1673640000@www.grazjazz.at
SUMMARY:SOKAL - DEUTSCH - WRESSNIG - Groove
DESCRIPTION:Harry Sokal – tenor sax\,\nRaphael Wressnig – Hammond B-3 organ\,\nAlex Deutsch – drums \nHarry Sokal hinterließ in der Vergangenheit bereits etliche „footprints“ in der  internationalen Musiklandschaft – mit eigenen  innovativen Projekten wie Depart\, Full Circle\, Roots Ahead Voices\, als kompetenter Sideman bei  Art Farmer\,  Carla Bley oder Joe Zawinul – und vor allem durch sein virtuoses Spiel im Vienna Art Orchestra. Sein aktuelles Projekt nennt er programmatisch „Groove”. Das Album trägt den vielversprechenden Titel „Where sparks start to fly“ – und Harry Sokal erfüllt wie immer alle Erwartungen! Und zwar in erster Linie\, weil er es wie wenige andere versteht\, individuelle technische Perfektion in den Dienst der musikalischen Sache zu stellen. Ein „musician’s musician“ par excellence\, für den es primär um den Inhalt und erst sekundär um den Applaus geht. \nRaphael Wressnig ist durch sein einzigartiges\, druckvolles Spiel auf der Original Vintage Hammond zum Inbegriff eines modernen Hammond-Organisten geworden. 5 Mal wurde der steirische Musiker bereits beim Critics-Poll der Jazz-Bibel DownBeat als „Best Organ Player of the Year“ nominiert. Er vermengt authentisches Blues-Feeling mit zeitgemäßer Funkiness\, repräsentiert eine Schnittstelle zwischen Soul\, Jazz und Funk und greift schamlos ins Glückszentrum des Musikhörerhirns. \nAlex Deutsch lebt nach Jahren in den USA nun wieder in Österreich und macht hier sowohl als einer der besten Drummer (Hans Koller-Preisträger als Musiker des Jahres 2006) als auch als Produzent (Anna F.\, Cafe Drechsler\, etc) von sich reden. Gemeinsam sind Harry Sokal\, Raphael Wressnig und Alex Deutsch „Groove“ – und das tun sie auch\, bis die Funken sprühen … \nVorabreservierung erbeten.\nTickets: tubes-music.at
URL:https://www.grazjazz.at/event/sokal-deutsch-wressnig-2/
LOCATION:tube’s\, Grieskai 74a\, Graz\, 8020\, Österreich
CATEGORIES:gamsbART,tube's
ATTACH;FMTTYPE=image/jpeg:https://www.grazjazz.at/wp-content/uploads/2022/12/20220113_Groove_by_Mirjam_Koch_hp.jpg
ORGANIZER;CN="gamsbART":MAILTO:office@gamsbartjazz.at
END:VEVENT
BEGIN:VEVENT
DTSTART;TZID=Europe/Berlin:20230114T200000
DTEND;TZID=Europe/Berlin:20230114T200000
DTSTAMP:20260424T135719
CREATED:20221212T130939Z
LAST-MODIFIED:20221228T140116Z
UID:3436-1673726400-1673726400@www.grazjazz.at
SUMMARY:SOKAL - DEUTSCH - WRESSNIG - Groove
DESCRIPTION:Harry Sokal – tenor sax\,\nRaphael Wressnig – Hammond B-3 organ\,\nAlex Deutsch – drums \nHarry Sokal hinterließ in der Vergangenheit bereits etliche „footprints“ in der  internationalen Musiklandschaft – mit eigenen  innovativen Projekten wie Depart\, Full Circle\, Roots Ahead Voices\, als kompetenter Sideman bei  Art Farmer\,  Carla Bley oder Joe Zawinul – und vor allem durch sein virtuoses Spiel im Vienna Art Orchestra. Sein aktuelles Projekt nennt er programmatisch „Groove”. Das Album trägt den vielversprechenden Titel „Where sparks start to fly“ – und Harry Sokal erfüllt wie immer alle Erwartungen! Und zwar in erster Linie\, weil er es wie wenige andere versteht\, individuelle technische Perfektion in den Dienst der musikalischen Sache zu stellen. Ein „musician’s musician“ par excellence\, für den es primär um den Inhalt und erst sekundär um den Applaus geht. \nRaphael Wressnig ist durch sein einzigartiges\, druckvolles Spiel auf der Original Vintage Hammond zum Inbegriff eines modernen Hammond-Organisten geworden. 5 Mal wurde der steirische Musiker bereits beim Critics-Poll der Jazz-Bibel DownBeat als „Best Organ Player of the Year“ nominiert. Er vermengt authentisches Blues-Feeling mit zeitgemäßer Funkiness\, repräsentiert eine Schnittstelle zwischen Soul\, Jazz und Funk und greift schamlos ins Glückszentrum des Musikhörerhirns. \nAlex Deutsch lebt nach Jahren in den USA nun wieder in Österreich und macht hier sowohl als einer der besten Drummer (Hans Koller-Preisträger als Musiker des Jahres 2006) als auch als Produzent (Anna F.\, Cafe Drechsler\, etc) von sich reden. Gemeinsam sind Harry Sokal\, Raphael Wressnig und Alex Deutsch „Groove“ – und das tun sie auch\, bis die Funken sprühen … \nVorabreservierung erbeten.\nTickets: tubes-music.at
URL:https://www.grazjazz.at/event/sokal-deutsch-wressnig-3/
LOCATION:tube’s\, Grieskai 74a\, Graz\, 8020\, Österreich
CATEGORIES:gamsbART,tube's
ATTACH;FMTTYPE=image/jpeg:https://www.grazjazz.at/wp-content/uploads/2022/12/20220113_Groove_by_Mirjam_Koch_hp.jpg
ORGANIZER;CN="gamsbART":MAILTO:office@gamsbartjazz.at
END:VEVENT
BEGIN:VEVENT
DTSTART;TZID=Europe/Berlin:20230116T200000
DTEND;TZID=Europe/Berlin:20230116T200000
DTSTAMP:20260424T135719
CREATED:20221213T100716Z
LAST-MODIFIED:20221213T122744Z
UID:3491-1673899200-1673899200@www.grazjazz.at
SUMMARY:ENSEMBLE NIGHT
DESCRIPTION:Fusionensemble & Popensemble\nLeitung: Robert RIEGLER \n 
URL:https://www.grazjazz.at/event/ensemble-night-10/
LOCATION:WIST / mo.xx\, Moserhofgasse 34\, Graz\, 8010\, Österreich
CATEGORIES:KUG,WIST
ATTACH;FMTTYPE=image/jpeg:https://www.grazjazz.at/wp-content/uploads/2022/12/Fueller_HP.jpg
GEO:47.06084;15.45521
X-APPLE-STRUCTURED-LOCATION;VALUE=URI;X-ADDRESS=WIST / mo.xx Moserhofgasse 34 Graz 8010 Österreich;X-APPLE-RADIUS=500;X-TITLE=Moserhofgasse 34:geo:15.45521,47.06084
END:VEVENT
BEGIN:VEVENT
DTSTART;TZID=Europe/Berlin:20230117T193000
DTEND;TZID=Europe/Berlin:20230117T193000
DTSTAMP:20260424T135719
CREATED:20221219T114212Z
LAST-MODIFIED:20221219T120346Z
UID:3553-1673983800-1673983800@www.grazjazz.at
SUMMARY:Konzert: Klangautomata
DESCRIPTION:open music presents:\nWinfried Ritsch – Medienkünstler\, Klangmaschinen\, Komposition\, Performance \nPROGRAMM\nWinfried Ritsch ersinnt neben seiner künstlerischen Tätigkeit in den Bereichen Radiokunst\, Realisation von Performances\, Installationen und Klangskulpturen\, telematische Kunstprojekte\, Netzwerkkunst\, Konzerte und Kompositionen\, immer wieder neuartige künstlerische Konzepte\, forscht und entwickelt\, generiert Kunst als Produkt hochtechnologischer wie auch einfach mechanischer Prozesse\, baut robotische Musikinstrumente\, arbeitet an kybernetischen Modellen für generative und interaktive Musik und Akustik als Open Source Hardware- und Software-Projekte. \nFür „Nebenwelten: Klangautomata“ setzt er den forschenden\, laborhaften Charakter seines künstlerischen Ansatzes fort\, um im Rahmen der Kunstserie „social machines“ [SM] und „Nebenwelten“ [NW] als weiterer Entwicklungsschritt das künstlerische Potenzial von vernetzten Maschinen mit IOT-Technologie (Internet of things) als autonome Geräte innerhalb eines Netzwerks auszuloten und dabei verschiedene Klangautomata als IOT-Kunstwerke zu erproben. Pfeifenblöcke seiner robotischen Raumorgel kommen da ebenso zum Einsatz wie andere robotische Instrumente\, und werden mit speziell dort hergestellten Klangautomata im Laufe der Ausstellungszeit erweitert\, getauscht und hinzugefügt. \nAlgorithmische Mikrokompositionen sind dabei Startpunkt der generativen Musik\, die die Klangautomata wie Hörer in eine virtuelle\, zunehmend sich selbst steuernde Musikwelt führen. In Anlehnung an die dezentralisierte Blockchain-Technologie und nicht-fungible Token sollten echte Peer-to-Peer-Transaktionen implementiert werden\, welche auf Datendemokratie statt Datenmonarchie abzielen\, um eine verteilte algorithmische Komposition zu bilden\, einen Lebensraum für einzigartige Kompositionsalgorithmen. \n„Nebenwelten: Klangautomata“ ist Netzkunst\, Klangkunst und kinetische Kunst. \nDie Ausstellung kann\, wie beim Besuch eines Aquariums\, von außerhalb des Raumes und in den Öffnungszeiten auch innerhalb erkundet werden. Am Ende der Ausstellung wird mit dem Konsens der überlebten Algorithmen in Form einer konzertanten Live-Erkundung gespielt. \n*[SM] „social machines“ ist eine Serie von Kunstwerken\, die im Rahmen eines gleichnamigen Workshops im „medienkunstlabor“ am Kunsthaus Graz 2008 unter der Leitung von Winfried Ritsch entstanden ist und später durch einige Arbeiten des Ateliers „Algorythmics“ ergänzt wurde. \nMit „Nebenwelten: Klangautomata“ setzt „open music“ seine nicht zuletzt ob der Pandemie gestartete Subreihe „hybrid music“ fort\, die Projekte initiiert bzw. präsentiert\, die das reine Live-Konzertformat zwar weiterhin\, aber dabei nur als Teilaspekt beinhalten und zeitgenössische Musik dabei hybrid denken\, entwickeln und realisieren – sei es beispielsweise auch als interaktive Website\, Radiokunst\, Klanginstallation oder bereits per se in technologisch wie inhaltlich konzeptuellem hybriden Ansatz. Winfried Ritschs vielteilige und prozessorientierte Arbeit kann hierbei und in dieser Größenordnung durch die freundliche Kooperation mit dem esc medien kunst labor und dem Atelier Algorythmics in Zusammenarbeit mit dem IEM umgesetzt werden. \nLINKS\nWinfried Ritsch\nNebenwelten \nEintritt frei
URL:https://www.grazjazz.at/event/nebenwelten-klangautomata/
LOCATION:ESC medien kunst labor\, Bürgergasse 5\, Graz\, 8010
CATEGORIES:open music
ATTACH;FMTTYPE=image/jpeg:https://www.grazjazz.at/wp-content/uploads/2022/12/csm_raumorgel-block-2__Foto_Winfried_Ritsch.jpg
ORGANIZER;CN="open%20music":MAILTO:ute.pinter@openmusic.at
END:VEVENT
BEGIN:VEVENT
DTSTART;TZID=Europe/Berlin:20230117T200000
DTEND;TZID=Europe/Berlin:20230117T200000
DTSTAMP:20260424T135719
CREATED:20221213T101001Z
LAST-MODIFIED:20221222T110540Z
UID:3494-1673985600-1673985600@www.grazjazz.at
SUMMARY:BASS NIGHT
DESCRIPTION:Studierende von Morten RAMSBØL \n 
URL:https://www.grazjazz.at/event/bass-night-2/
LOCATION:WIST / mo.xx\, Moserhofgasse 34\, Graz\, 8010\, Österreich
CATEGORIES:KUG,WIST
ATTACH;FMTTYPE=image/jpeg:https://www.grazjazz.at/wp-content/uploads/2020/11/TheHautzingerParticle_041-web.jpg
GEO:47.06084;15.45521
X-APPLE-STRUCTURED-LOCATION;VALUE=URI;X-ADDRESS=WIST / mo.xx Moserhofgasse 34 Graz 8010 Österreich;X-APPLE-RADIUS=500;X-TITLE=Moserhofgasse 34:geo:15.45521,47.06084
END:VEVENT
BEGIN:VEVENT
DTSTART;TZID=Europe/Berlin:20230118T200000
DTEND;TZID=Europe/Berlin:20230118T200000
DTSTAMP:20260424T135719
CREATED:20221212T110021Z
LAST-MODIFIED:20221212T112014Z
UID:3375-1674072000-1674072000@www.grazjazz.at
SUMMARY:DAVE DOUGLAS QUINTET (US)
DESCRIPTION:Dave Douglas – trumpet\, \nJon Irabagon – tenor saxophone\, \nMarta Warelis – piano\, \nNick Dunston – upright bass\, \nRudy Royston – drums \n⇒ Reservierung \n 
URL:https://www.grazjazz.at/event/dave-douglas-quintet/
LOCATION:Stockwerk\, Jakominiplatz 18\, Graz\, Steiermark\, 8010\, Österreich
CATEGORIES:Stockwerk
ATTACH;FMTTYPE=image/jpeg:https://www.grazjazz.at/wp-content/uploads/2022/12/DaveDouglasByJohnAbbott_HP.jpg
GEO:47.06777;15.44203
X-APPLE-STRUCTURED-LOCATION;VALUE=URI;X-ADDRESS=Stockwerk Jakominiplatz 18 Graz Steiermark 8010 Österreich;X-APPLE-RADIUS=500;X-TITLE=Jakominiplatz 18:geo:15.44203,47.06777
END:VEVENT
BEGIN:VEVENT
DTSTART;TZID=Europe/Berlin:20230118T200000
DTEND;TZID=Europe/Berlin:20230118T200000
DTSTAMP:20260424T135719
CREATED:20221213T101417Z
LAST-MODIFIED:20221213T122843Z
UID:3497-1674072000-1674072000@www.grazjazz.at
SUMMARY:VOCAL NIGHT
DESCRIPTION:Studierende von Dena DEROSE \n 
URL:https://www.grazjazz.at/event/vocal-night/
LOCATION:WIST / mo.xx\, Moserhofgasse 34\, Graz\, 8010\, Österreich
CATEGORIES:KUG,WIST
ATTACH;FMTTYPE=image/jpeg:https://www.grazjazz.at/wp-content/uploads/2020/07/EwaldOberleitner75erFest_328-PPurgar-s.jpg
GEO:47.06084;15.45521
X-APPLE-STRUCTURED-LOCATION;VALUE=URI;X-ADDRESS=WIST / mo.xx Moserhofgasse 34 Graz 8010 Österreich;X-APPLE-RADIUS=500;X-TITLE=Moserhofgasse 34:geo:15.45521,47.06084
END:VEVENT
BEGIN:VEVENT
DTSTART;TZID=Europe/Berlin:20230119T200000
DTEND;TZID=Europe/Berlin:20230119T200000
DTSTAMP:20260424T135719
CREATED:20221212T112130Z
LAST-MODIFIED:20221212T112527Z
UID:3379-1674158400-1674158400@www.grazjazz.at
SUMMARY:Eddie Luise & His Jazz Passengers
DESCRIPTION:Vibraphone Swing\nFeat. Vid Jamnik – vibraphone \n⇒ Reservierung \n 
URL:https://www.grazjazz.at/event/eddie-luise-his-jazz-passengers/
LOCATION:Stockwerk\, Jakominiplatz 18\, Graz\, Steiermark\, 8010\, Österreich
CATEGORIES:Stockwerk
ATTACH;FMTTYPE=image/jpeg:https://www.grazjazz.at/wp-content/uploads/2022/03/ELuis_3_-_1.jpg
GEO:47.06777;15.44203
X-APPLE-STRUCTURED-LOCATION;VALUE=URI;X-ADDRESS=Stockwerk Jakominiplatz 18 Graz Steiermark 8010 Österreich;X-APPLE-RADIUS=500;X-TITLE=Jakominiplatz 18:geo:15.44203,47.06777
END:VEVENT
BEGIN:VEVENT
DTSTART;TZID=Europe/Berlin:20230119T230000
DTEND;TZID=Europe/Berlin:20230119T230000
DTSTAMP:20260424T135719
CREATED:20221213T102049Z
LAST-MODIFIED:20221213T120806Z
UID:3499-1674169200-1674169200@www.grazjazz.at
SUMMARY:Jam Session mit Jim ROTONDI
DESCRIPTION:  \n 
URL:https://www.grazjazz.at/event/jam-session-mit-jim-rotondi/
LOCATION:Theatercafe\, Mandellstraße 11\, Graz\, Steiermark\, 8010
CATEGORIES:KUG,WIST
ATTACH;FMTTYPE=image/jpeg:https://www.grazjazz.at/wp-content/uploads/2022/12/jim-rotondi_HP.jpg
END:VEVENT
BEGIN:VEVENT
DTSTART;TZID=Europe/Berlin:20230120T200000
DTEND;TZID=Europe/Berlin:20230120T200000
DTSTAMP:20260424T135719
CREATED:20230103T114623Z
LAST-MODIFIED:20230103T115230Z
UID:3659-1674244800-1674244800@www.grazjazz.at
SUMMARY:Royal Garden Jazz Band
DESCRIPTION:Peter Kunsek – lead\,cl\, \nFranz Schober – tp\,flh\, \nSchorschi Kreuzer – tb\, \nBernd Kainz- p\, \nEwald Oberleitner – b\, \nAndjelko Stupar – dr \nKarten an der Abendkassa\, keine Reservierungen!
URL:https://www.grazjazz.at/event/royal-garden-jazz-band/
LOCATION:Royal Garden Jazz Club\, Bürgergasse 4\, Graz\, Steiermark\, 8010\, Österreich
CATEGORIES:Royal Garden Jazz Club
ATTACH;FMTTYPE=image/jpeg:https://www.grazjazz.at/wp-content/uploads/2023/01/RGJB.jpg
ORGANIZER;CN="Royal%20Garden%20Jazz%20Club":MAILTO:royal.garden@gmx.at
END:VEVENT
BEGIN:VEVENT
DTSTART;TZID=Europe/Berlin:20230123T200000
DTEND;TZID=Europe/Berlin:20230123T200000
DTSTAMP:20260424T135719
CREATED:20221213T102329Z
LAST-MODIFIED:20221222T110633Z
UID:3502-1674504000-1674504000@www.grazjazz.at
SUMMARY:ENSEMBLE NIGHT
DESCRIPTION:KUG Latin Ensemble & Master Ensemble\nLeitung: Günther BRÜCK & Renato CHICCO \n 
URL:https://www.grazjazz.at/event/ensemble-night-11/
LOCATION:WIST / mo.xx\, Moserhofgasse 34\, Graz\, 8010\, Österreich
CATEGORIES:KUG,WIST
ATTACH;FMTTYPE=image/jpeg:https://www.grazjazz.at/wp-content/uploads/2022/12/Fueller_HP.jpg
GEO:47.06084;15.45521
X-APPLE-STRUCTURED-LOCATION;VALUE=URI;X-ADDRESS=WIST / mo.xx Moserhofgasse 34 Graz 8010 Österreich;X-APPLE-RADIUS=500;X-TITLE=Moserhofgasse 34:geo:15.45521,47.06084
END:VEVENT
BEGIN:VEVENT
DTSTART;TZID=Europe/Berlin:20230124T200000
DTEND;TZID=Europe/Berlin:20230124T200000
DTSTAMP:20260424T135719
CREATED:20221213T102923Z
LAST-MODIFIED:20221213T122553Z
UID:3505-1674590400-1674590400@www.grazjazz.at
SUMMARY:IMPROVISATION MASTERS
DESCRIPTION:Leitung: Renato CHICCO \n 
URL:https://www.grazjazz.at/event/improvisation-masters/
LOCATION:WIST / mo.xx\, Moserhofgasse 34\, Graz\, 8010\, Österreich
CATEGORIES:KUG,WIST
ATTACH;FMTTYPE=image/jpeg:https://www.grazjazz.at/wp-content/uploads/2022/12/Renato_Chicco_piano_HP.jpg
GEO:47.06084;15.45521
X-APPLE-STRUCTURED-LOCATION;VALUE=URI;X-ADDRESS=WIST / mo.xx Moserhofgasse 34 Graz 8010 Österreich;X-APPLE-RADIUS=500;X-TITLE=Moserhofgasse 34:geo:15.45521,47.06084
END:VEVENT
BEGIN:VEVENT
DTSTART;TZID=Europe/Berlin:20230125T200000
DTEND;TZID=Europe/Berlin:20230125T200000
DTSTAMP:20260424T135719
CREATED:20221212T113624Z
LAST-MODIFIED:20221212T120246Z
UID:3386-1674676800-1674676800@www.grazjazz.at
SUMMARY:TRIO 90 YA (A)
DESCRIPTION:Bertl Mütter – trombone\, \nEwald Oberleitner – bass\, \nGerhard Laber – percussion \n⇒ Reservierung \n 
URL:https://www.grazjazz.at/event/trio-90-ya/
LOCATION:Stockwerk\, Jakominiplatz 18\, Graz\, Steiermark\, 8010\, Österreich
CATEGORIES:Stockwerk
ATTACH;FMTTYPE=image/jpeg:https://www.grazjazz.at/wp-content/uploads/2022/12/Trio90YA_HP.jpg
GEO:47.06777;15.44203
X-APPLE-STRUCTURED-LOCATION;VALUE=URI;X-ADDRESS=Stockwerk Jakominiplatz 18 Graz Steiermark 8010 Österreich;X-APPLE-RADIUS=500;X-TITLE=Jakominiplatz 18:geo:15.44203,47.06777
END:VEVENT
BEGIN:VEVENT
DTSTART;TZID=Europe/Berlin:20230125T200000
DTEND;TZID=Europe/Berlin:20230125T200000
DTSTAMP:20260424T135719
CREATED:20221213T103250Z
LAST-MODIFIED:20221213T122503Z
UID:3508-1674676800-1674676800@www.grazjazz.at
SUMMARY:ENSEMBLE NIGHT
DESCRIPTION:Composers’ Ensemble & Nine Piece Band\nLeitung: Reinhard SUMMERER & Sigi FEIGL \n 
URL:https://www.grazjazz.at/event/ensemble-night-12/
LOCATION:WIST / mo.xx\, Moserhofgasse 34\, Graz\, 8010\, Österreich
CATEGORIES:KUG,WIST
ATTACH;FMTTYPE=image/jpeg:https://www.grazjazz.at/wp-content/uploads/2022/12/csm_Stage_Band_@_Peter_Purgar_HP.jpg
GEO:47.06084;15.45521
X-APPLE-STRUCTURED-LOCATION;VALUE=URI;X-ADDRESS=WIST / mo.xx Moserhofgasse 34 Graz 8010 Österreich;X-APPLE-RADIUS=500;X-TITLE=Moserhofgasse 34:geo:15.45521,47.06084
END:VEVENT
BEGIN:VEVENT
DTSTART;TZID=Europe/Berlin:20230126T230000
DTEND;TZID=Europe/Berlin:20230126T230000
DTSTAMP:20260424T135719
CREATED:20221213T104833Z
LAST-MODIFIED:20221213T115706Z
UID:3512-1674774000-1674774000@www.grazjazz.at
SUMMARY:Jam Session mit Elisabeth KORNHUBER
DESCRIPTION:  \n 
URL:https://www.grazjazz.at/event/jam-session-mit-elisabeth-kornhuber/
LOCATION:Theatercafe\, Mandellstraße 11\, Graz\, Steiermark\, 8010
CATEGORIES:KUG
ATTACH;FMTTYPE=image/jpeg:https://www.grazjazz.at/wp-content/uploads/2020/07/EwaldOberleitner75erFest_328-PPurgar-s.jpg
END:VEVENT
BEGIN:VEVENT
DTSTART;TZID=Europe/Berlin:20230130T200000
DTEND;TZID=Europe/Berlin:20230130T200000
DTSTAMP:20260424T135719
CREATED:20221213T105440Z
LAST-MODIFIED:20221213T133143Z
UID:3515-1675108800-1675108800@www.grazjazz.at
SUMMARY:KUG Jazz Orchester feat. Bachelor Students
DESCRIPTION:Leitung: Reinhard SUMMERER \n 
URL:https://www.grazjazz.at/event/kug-jazz-orchester-feat-bachelor-students/
LOCATION:WIST / mo.xx\, Moserhofgasse 34\, Graz\, 8010\, Österreich
CATEGORIES:KUG,WIST
ATTACH;FMTTYPE=image/jpeg:https://www.grazjazz.at/wp-content/uploads/2022/12/KUGJazzOrchester_HP.jpg
GEO:47.06084;15.45521
X-APPLE-STRUCTURED-LOCATION;VALUE=URI;X-ADDRESS=WIST / mo.xx Moserhofgasse 34 Graz 8010 Österreich;X-APPLE-RADIUS=500;X-TITLE=Moserhofgasse 34:geo:15.45521,47.06084
END:VEVENT
BEGIN:VEVENT
DTSTART;TZID=Europe/Berlin:20230130T200000
DTEND;TZID=Europe/Berlin:20230130T200000
DTSTAMP:20260424T135719
CREATED:20221219T120431Z
LAST-MODIFIED:20221221T143202Z
UID:3560-1675108800-1675108800@www.grazjazz.at
SUMMARY:Zoh Amba Trio
DESCRIPTION:open music presents: \nZoh Amba – tenor saxophon\nMicah Thomas – piano\nChris Corsano – drums \nPROGRAMM\nDie aus Tennessee stammende und jetzt in New York lebende\, knapp über 22-jährige Tenorsaxophonistin Zoh Amba gilt als Shooting Star des Big Apple. Sie wuchs in den Bergen auf\, übte und spielte auch gerne für sich allein in freier Natur\, bevor sie bei David Murray sowie auch am San Francisco Conservatory Of Music & New England Conservatory in Boston zu studieren begann. Ihre Musik ist geprägt von einem tiefen Verständnis für Spiritualität und emotionale Kraft\, durch Folk-Melodien und hypnotische Refrains wie auch inspiriert kraftvolle Avantgarde.\nFür ihre erste CD hat sie ein fabelhaftes Quartett zusammengestellt\, zu dem ihr enger Freund\, der aufstrebende New Yorker Pianist Micah Thomas\, und als beeindruckende Rhythmusgruppe Thomas Morgan und Joey Baron gehören. Veröffentlicht wurde dieses\, von keinem geringeren als John Zorn produzierte Debütalbum mit Titel „O\, Sun“ im März 2022 bei dem renommierten Label Tzadik. Weitere Alben folgen mit „O Life\, O Light“ im Verbund mit William Parker und Francisco Mela sowie als weitere Trioformation auch mit Tyshawn Sorey und Micah Thomas. \nBei „open music“ gibt Zoh Amba in aktuellem Trio-Line-up nunmehr ihr Grazdebut! \nLINKS\nhttps://www.facebook.com/zohamba/\nhttp://micah.io/about\nhttp://cor-sano.com/ \nTICKETS\n€ 16 | € 11* | € 6**\n* SchülerInnen\, StudentInnen\, Präsenz-/Zivildiener und Arbeitslose mit gültigem Ausweis\n** MusikstudentInnen mit gültigem Ausweis an der Abendkassa sowie Kinder bis 10 Jahre\n*** Eintritt frei für Hunger auf Kunst & Kultur an der Abendkassa ab 15 Minuten vor Konzertbeginn \nAbendkassa\nDie Abendkassa öffnet 30 Minuten vor Konzertbeginn \nReservierungen\nE-Mail
URL:https://www.grazjazz.at/event/zoh-amba-trio/
LOCATION:tube’s\, Grieskai 74a\, Graz\, 8020\, Österreich
CATEGORIES:open music,tube's
ATTACH;FMTTYPE=image/jpeg:https://www.grazjazz.at/wp-content/uploads/2022/12/zoh_amba_trio_by_Scott_Rossi.jpg
ORGANIZER;CN="open%20music":MAILTO:ute.pinter@openmusic.at
END:VEVENT
BEGIN:VEVENT
DTSTART;TZID=Europe/Berlin:20230131T200000
DTEND;TZID=Europe/Berlin:20230131T200000
DTSTAMP:20260424T135719
CREATED:20221213T105741Z
LAST-MODIFIED:20221213T122417Z
UID:3518-1675195200-1675195200@www.grazjazz.at
SUMMARY:BIG BAND NIGHT
DESCRIPTION:Leitung: Lluís MARTÍNEZ \n 
URL:https://www.grazjazz.at/event/big-band-night/
LOCATION:WIST / mo.xx\, Moserhofgasse 34\, Graz\, 8010\, Österreich
CATEGORIES:KUG,WIST
ATTACH;FMTTYPE=image/png:https://www.grazjazz.at/wp-content/uploads/2022/03/csm_Stage_Band_@_Peter_Purgar__1__ohne_939e2461f8.png
GEO:47.06084;15.45521
X-APPLE-STRUCTURED-LOCATION;VALUE=URI;X-ADDRESS=WIST / mo.xx Moserhofgasse 34 Graz 8010 Österreich;X-APPLE-RADIUS=500;X-TITLE=Moserhofgasse 34:geo:15.45521,47.06084
END:VEVENT
END:VCALENDAR