BEGIN:VCALENDAR
VERSION:2.0
PRODID:-//grazjazz - ECPv5.8.2//NONSGML v1.0//EN
CALSCALE:GREGORIAN
METHOD:PUBLISH
X-WR-CALNAME:grazjazz
X-ORIGINAL-URL:https://www.grazjazz.at
X-WR-CALDESC:Veranstaltungen für grazjazz
BEGIN:VTIMEZONE
TZID:Europe/Berlin
BEGIN:DAYLIGHT
TZOFFSETFROM:+0100
TZOFFSETTO:+0200
TZNAME:CEST
DTSTART:20240331T010000
END:DAYLIGHT
BEGIN:STANDARD
TZOFFSETFROM:+0200
TZOFFSETTO:+0100
TZNAME:CET
DTSTART:20241027T010000
END:STANDARD
END:VTIMEZONE
BEGIN:VEVENT
DTSTART;TZID=Europe/Berlin:20240703T193000
DTEND;TZID=Europe/Berlin:20240703T193000
DTSTAMP:20260423T131512
CREATED:20240624T062225Z
LAST-MODIFIED:20240624T100111Z
UID:5655-1720035000-1720035000@www.grazjazz.at
SUMMARY:Luis Bonilla & Sigi Feigl Quintett
DESCRIPTION:  \n 
URL:https://www.grazjazz.at/event/luis-bonilla-sigi-feigl-quintett/
LOCATION:Generalihof\, Generalihof 9\, Graz\, Steiermark\, 8010
CATEGORIES:gamsbART,Generalihof Konzerte
ATTACH;FMTTYPE=image/jpeg:https://www.grazjazz.at/wp-content/uploads/2024/06/03.07.jpg
ORGANIZER;CN="gamsbART":MAILTO:office@gamsbartjazz.at
END:VEVENT
BEGIN:VEVENT
DTSTART;TZID=Europe/Berlin:20240707T170000
DTEND;TZID=Europe/Berlin:20240707T170000
DTSTAMP:20260423T131512
CREATED:20240228T171435Z
LAST-MODIFIED:20240228T172142Z
UID:5386-1720371600-1720371600@www.grazjazz.at
SUMMARY:Berndt Luef Quintett & Sextett
DESCRIPTION:Axel Mayer – trumpet & flügelhorn\,\nWilly Kulmer – sopran- & altosax\,\nDragan Tabakovic – guitar\,\nBerndt Luef – vibraphone\,\nThorsten Zimmermann – bass\,\nViktor Palic – drums \n  \n 
URL:https://www.grazjazz.at/event/berndt-luef-quintett-sextett/
LOCATION:Kunstgarten\, Payer-Weyprecht Straße 27\, Graz\, 8020
CATEGORIES:Berndt Luef
ATTACH;FMTTYPE=image/jpeg:https://www.grazjazz.at/wp-content/uploads/2023/06/Berndt-Luef-Peter-Purgar-HP.jpg
ORGANIZER;CN="Berndt%20Luef":MAILTO:luef@mur.at
END:VEVENT
BEGIN:VEVENT
DTSTART;TZID=Europe/Berlin:20240710T193000
DTEND;TZID=Europe/Berlin:20240710T193000
DTSTAMP:20260423T131512
CREATED:20240624T062517Z
LAST-MODIFIED:20240624T100032Z
UID:5659-1720639800-1720639800@www.grazjazz.at
SUMMARY:KH. Miklin jr.: Following Footsteps
DESCRIPTION:  \n 
URL:https://www.grazjazz.at/event/kh-miklin-jr-following-footsteps/
LOCATION:Generalihof\, Generalihof 9\, Graz\, Steiermark\, 8010
CATEGORIES:gamsbART,Generalihof Konzerte
ATTACH;FMTTYPE=image/jpeg:https://www.grazjazz.at/wp-content/uploads/2024/06/10.07.-1-Miklin-by-H.-Schiffer.jpeg
ORGANIZER;CN="gamsbART":MAILTO:office@gamsbartjazz.at
END:VEVENT
BEGIN:VEVENT
DTSTART;TZID=Europe/Berlin:20240717T193000
DTEND;TZID=Europe/Berlin:20240717T193000
DTSTAMP:20260423T131512
CREATED:20240624T062656Z
LAST-MODIFIED:20240624T100014Z
UID:5662-1721244600-1721244600@www.grazjazz.at
SUMMARY:Jure Pukl Organic Trio
DESCRIPTION:  \n 
URL:https://www.grazjazz.at/event/jure-pukl-organic-trio/
LOCATION:Generalihof\, Generalihof 9\, Graz\, Steiermark\, 8010
CATEGORIES:gamsbART,Generalihof Konzerte
ATTACH;FMTTYPE=image/jpeg:https://www.grazjazz.at/wp-content/uploads/2024/06/17.07.-Jure-Pukl-©-Aljoša-Videtič.jpeg
ORGANIZER;CN="gamsbART":MAILTO:office@gamsbartjazz.at
END:VEVENT
BEGIN:VEVENT
DTSTART;TZID=Europe/Berlin:20240724T193000
DTEND;TZID=Europe/Berlin:20240724T193000
DTSTAMP:20260423T131512
CREATED:20240624T062805Z
LAST-MODIFIED:20240624T095950Z
UID:5666-1721849400-1721849400@www.grazjazz.at
SUMMARY:Kurt Haider - Tobias Steinrück-Roland Hanslmeier: Hidden Pockets
DESCRIPTION:  \n 
URL:https://www.grazjazz.at/event/kurt-haider-tobias-steinrueck-roland-hanslmeier-hidden-pockets/
LOCATION:Generalihof\, Generalihof 9\, Graz\, Steiermark\, 8010
CATEGORIES:gamsbART,Generalihof Konzerte
ATTACH;FMTTYPE=image/jpeg:https://www.grazjazz.at/wp-content/uploads/2024/06/24.07.-Hidden-Pockets-PR-Foto-c-Michael-Feintenberger.jpeg
ORGANIZER;CN="gamsbART":MAILTO:office@gamsbartjazz.at
END:VEVENT
BEGIN:VEVENT
DTSTART;TZID=Europe/Berlin:20240727T203000
DTEND;TZID=Europe/Berlin:20240727T203000
DTSTAMP:20260423T131512
CREATED:20240228T170837Z
LAST-MODIFIED:20240701T091546Z
UID:5383-1722112200-1722112200@www.grazjazz.at
SUMMARY:"Sultry Nights" - Berndt Luef & Jazztett Forum Graz
DESCRIPTION:Martin Krusche – voice\, \nAxel Mayer – trumpet & flügelhorn\,\nKarel Eriksson – trombone\, \nWilly Kulmer – sopransax & altosax\, bassclarinet\,\nKlemens Pliem – sopransax & tenorsax\,\nPatrick Dunst – baritonsax & bassclarinet\,\nKurt Haider – guitar\, \nBerndt Luef – vibraphone\, \nLukas Raumberger – bass\,\nThomas Stabler – drums\, \nIsamel Barríos – congas & percussion \nDas Jazztett Forum Graz stellt im heurigen Sommerkonzert u.a. Kompositionen von Berndt Luef vor\, die er beeinflusst von den Texten des polnischen Journalisten und Schriftstellers Ryszard Kapuzcinsky unter dem Titel „Sultry Nights“ geschrieben hat. Es liest Martin Krusche.
URL:https://www.grazjazz.at/event/berndt-luef-jazztett-forum-graz-10/
LOCATION:Forum Stadtpark\, Stadtpark 1\, Graz\, Steiermark\, 8010\, Österreich
CATEGORIES:Berndt Luef,Forum Stadtpark
ATTACH;FMTTYPE=image/jpeg:https://www.grazjazz.at/wp-content/uploads/2024/02/Info-Sultry-Nights-24.07.27-1.jpg
ORGANIZER;CN="Berndt%20Luef":MAILTO:luef@mur.at
GEO:47.06986;15.4464
X-APPLE-STRUCTURED-LOCATION;VALUE=URI;X-ADDRESS=Forum Stadtpark Stadtpark 1 Graz Steiermark 8010 Österreich;X-APPLE-RADIUS=500;X-TITLE=Stadtpark 1:geo:15.4464,47.06986
END:VEVENT
BEGIN:VEVENT
DTSTART;TZID=Europe/Berlin:20240731T193000
DTEND;TZID=Europe/Berlin:20240731T193000
DTSTAMP:20260423T131512
CREATED:20240624T062920Z
LAST-MODIFIED:20240624T095929Z
UID:5670-1722454200-1722454200@www.grazjazz.at
SUMMARY:Emiliano Sampaio Meretrio feat. Heinrich v. Kalnein
DESCRIPTION:  \n 
URL:https://www.grazjazz.at/event/emiliano-sampaio-meretrio-feat-heinrich-v-kalnein/
LOCATION:Generalihof\, Generalihof 9\, Graz\, Steiermark\, 8010
CATEGORIES:gamsbART,Generalihof Konzerte
ATTACH;FMTTYPE=image/jpeg:https://www.grazjazz.at/wp-content/uploads/2024/06/31.07.jpg
ORGANIZER;CN="gamsbART":MAILTO:office@gamsbartjazz.at
END:VEVENT
END:VCALENDAR