BEGIN:VCALENDAR
VERSION:2.0
PRODID:-//grazjazz - ECPv5.8.2//NONSGML v1.0//EN
CALSCALE:GREGORIAN
METHOD:PUBLISH
X-WR-CALNAME:grazjazz
X-ORIGINAL-URL:https://www.grazjazz.at
X-WR-CALDESC:Veranstaltungen für grazjazz
BEGIN:VTIMEZONE
TZID:Europe/Berlin
BEGIN:DAYLIGHT
TZOFFSETFROM:+0100
TZOFFSETTO:+0200
TZNAME:CEST
DTSTART:20240331T010000
END:DAYLIGHT
BEGIN:STANDARD
TZOFFSETFROM:+0200
TZOFFSETTO:+0100
TZNAME:CET
DTSTART:20241027T010000
END:STANDARD
BEGIN:DAYLIGHT
TZOFFSETFROM:+0100
TZOFFSETTO:+0200
TZNAME:CEST
DTSTART:20250330T010000
END:DAYLIGHT
BEGIN:STANDARD
TZOFFSETFROM:+0200
TZOFFSETTO:+0100
TZNAME:CET
DTSTART:20251026T010000
END:STANDARD
END:VTIMEZONE
BEGIN:VEVENT
DTSTART;TZID=Europe/Berlin:20240420T213000
DTEND;TZID=Europe/Berlin:20240420T213000
DTSTAMP:20260423T212059
CREATED:20240319T165853Z
LAST-MODIFIED:20240319T165921Z
UID:5492-1713648600-1713648600@www.grazjazz.at
SUMMARY:YVONNE MORIEL & SWEETLIFE QUARTET
DESCRIPTION:
URL:https://www.grazjazz.at/event/yvonne-moriel-sweetlife-quartet/
LOCATION:Orpheum Graz\, Orpheumgasse 8\, Graz\, Steiermark\, 8020\, Österreich
ATTACH;FMTTYPE=image/jpeg:https://www.grazjazz.at/wp-content/uploads/2024/03/Jazzwerkstatt_HP.jpg
ORGANIZER;CN="Jazzwerkstatt%20Graz":MAILTO:info1@jazzwerkstattgraz.com
GEO:47.07241;15.43005
X-APPLE-STRUCTURED-LOCATION;VALUE=URI;X-ADDRESS=Orpheum Graz Orpheumgasse 8 Graz Steiermark 8020 Österreich;X-APPLE-RADIUS=500;X-TITLE=Orpheumgasse 8:geo:15.43005,47.07241
END:VEVENT
BEGIN:VEVENT
DTSTART;TZID=Europe/Berlin:20240426T200000
DTEND;TZID=Europe/Berlin:20240426T200000
DTSTAMP:20260423T212059
CREATED:20240319T170238Z
LAST-MODIFIED:20240319T170329Z
UID:5500-1714161600-1714161600@www.grazjazz.at
SUMMARY:PETER LENZ & BAND
DESCRIPTION:
URL:https://www.grazjazz.at/event/peter-lenz-band/
LOCATION:Orpheum Graz\, Orpheumgasse 8\, Graz\, Steiermark\, 8020\, Österreich
ATTACH;FMTTYPE=image/jpeg:https://www.grazjazz.at/wp-content/uploads/2024/03/Jazzwerkstatt_HP.jpg
ORGANIZER;CN="Jazzwerkstatt%20Graz":MAILTO:info1@jazzwerkstattgraz.com
GEO:47.07241;15.43005
X-APPLE-STRUCTURED-LOCATION;VALUE=URI;X-ADDRESS=Orpheum Graz Orpheumgasse 8 Graz Steiermark 8020 Österreich;X-APPLE-RADIUS=500;X-TITLE=Orpheumgasse 8:geo:15.43005,47.07241
END:VEVENT
BEGIN:VEVENT
DTSTART;TZID=Europe/Berlin:20240426T213000
DTEND;TZID=Europe/Berlin:20240426T213000
DTSTAMP:20260423T212059
CREATED:20240319T170332Z
LAST-MODIFIED:20240319T170405Z
UID:5502-1714167000-1714167000@www.grazjazz.at
SUMMARY:VALERIE COSTA - DANNY ZIEMANN DUO
DESCRIPTION:
URL:https://www.grazjazz.at/event/valerie-costa-danny-ziemann-duo/
LOCATION:Orpheum Graz\, Orpheumgasse 8\, Graz\, Steiermark\, 8020\, Österreich
ATTACH;FMTTYPE=image/jpeg:https://www.grazjazz.at/wp-content/uploads/2024/03/Jazzwerkstatt_HP.jpg
ORGANIZER;CN="Jazzwerkstatt%20Graz":MAILTO:info1@jazzwerkstattgraz.com
GEO:47.07241;15.43005
X-APPLE-STRUCTURED-LOCATION;VALUE=URI;X-ADDRESS=Orpheum Graz Orpheumgasse 8 Graz Steiermark 8020 Österreich;X-APPLE-RADIUS=500;X-TITLE=Orpheumgasse 8:geo:15.43005,47.07241
END:VEVENT
BEGIN:VEVENT
DTSTART;TZID=Europe/Berlin:20240506T200000
DTEND;TZID=Europe/Berlin:20240506T200000
DTSTAMP:20260423T212059
CREATED:20240123T100741Z
LAST-MODIFIED:20240123T101551Z
UID:5261-1715025600-1715025600@www.grazjazz.at
SUMMARY:WOLFGANG MUTHSPIEL CHAMBER TRIO
DESCRIPTION:Wolfgang Muthspiel – guitar\,\nMario Rom – trumpet\,\nColin Vallon – piano \nErklärtes Ziel des Chamber Trios ist es\, ein interaktives\, polyphones musikalisches Netz zu knüpfen\, das sich die Intimität und Transparenz kammermusikalischer Formationen zu eigen macht und dennoch nicht an rhythmischer Kraft und Verspieltheit zurückstecken muss. Alle drei Musiker verbindet ein ausgeprägtes Gespür für Klangkultur\, durch das sie ihrem Instrument zahlreiche unterschiedliche Klangfarben entlocken können. Auch sind sie große Improvisatoren\, die die Freude am Erschaffen von Musik im Moment vereint. Dies bedeutet\, dass stets ein gewisses Maß an Risiko während des Musizierens vorhanden ist und macht jedes Konzert zu einer einzigartigen Momentaufnahme. Wie in allen Jazzensembles ist hierbei die Balance zwischen improvisierter Spontanität der Musiker und langanhaltenden formgebenden musikalischen Strukturen der Schlüssel zum Erfolg. \nTickets: \nticketzentrum.buehnen-graz.com \noeticket.com
URL:https://www.grazjazz.at/event/wolfgang-muthspiel-chamber-trio/
LOCATION:Orpheum Graz\, Orpheumgasse 8\, Graz\, Steiermark\, 8020\, Österreich
CATEGORIES:gamsbART
ATTACH;FMTTYPE=image/jpeg:https://www.grazjazz.at/wp-content/uploads/2024/01/W_Muthspiel_by_Laura_Pleifer_HP.jpg
ORGANIZER;CN="gamsbART":MAILTO:office@gamsbartjazz.at
GEO:47.07241;15.43005
X-APPLE-STRUCTURED-LOCATION;VALUE=URI;X-ADDRESS=Orpheum Graz Orpheumgasse 8 Graz Steiermark 8020 Österreich;X-APPLE-RADIUS=500;X-TITLE=Orpheumgasse 8:geo:15.43005,47.07241
END:VEVENT
BEGIN:VEVENT
DTSTART;TZID=Europe/Berlin:20250509T200000
DTEND;TZID=Europe/Berlin:20250509T200000
DTSTAMP:20260423T212059
CREATED:20250305T131057Z
LAST-MODIFIED:20250305T131823Z
UID:6456-1746820800-1746820800@www.grazjazz.at
SUMMARY:TOBIAS MEISSL TRIO
DESCRIPTION:Tobias Meissl – Vibraphon\nIvar Roban Križić – Bass\nValentin Duit – Schlagzeug \nDas Trio interpretiert improvisatorisch Kompositionen des Bandleaders. Während Tobias Meissl das Ausgangsmaterial liefert und somit nominell als Komponist fungiert\, ist die Musik großteils so konzipiert\, dass sie mit einem anderen Ensemble ganz anders klingen würde. Würden die Stücke genauso gespielt\, wie sie notiert sind\, würden sie zwar einwandfrei funktionieren; das ist aber größtenteils nicht die Idee. Während Valentin Duit und Tobias Meissl schon seit über 20 Jahren in verschiedensten Kontexten gemeinsam Musik machen\, verbindet Ivar Roban Križić mit den beiden eine mittlerweile auch schon fünfjährige Zusammenarbeit. Daraus ergeben sich ein tiefes Vertrauen und eine musikalische Kommunikation\, die Momente zeitweise gespenstischen gegenseitigen Verständnisses hervorbringen. Nach anfangs vereinzelten Trio-Konzerten in dieser Besetzung spielten Duit und Križić als eine der gefragtesten Rhythmusgruppen der Wiener Jazz-Szene in einer Vielzahl verschiedener musikalischer Situationen zusammen. Seit Herbst 2021 entwickelte sich im Tobias Meissl Trio durch zeitweise intensive Probephasen\, die erwähnte Zusammenarbeit in unterschiedlichen Sideman-Kontexten\, die seit Ende 2022 bestehende Arbeit mit dem Valentin Duit Quartett in der gleichen Besetzung – ergänzt durch Robert Unterköfler am Tenorsaxophon – und nicht zuletzt regelmäßige Auftritte wie etwa ein monatliches Konzert im Wiener Café Frame mit diesen beiden Bands ein gemeinsamer Klang und eine individuelle Art des Zusammenspiels.\nDie Kompositionen für das Trio sind demnach seit längerer Zeit speziell für diesen gemeinsamen Klang und die gemeinsame Spielkultur geschrieben. Diese Art der losen Interpretation ist auch bewusst in die Konzeption der Stücke sowie teilweise in die Art der Notation einkalkuliert. Meissl versteht seine Rolle als Komponist für dieses Ensemble also in erster Linie darin\, musikalische Gesprächsthemen zu liefern und gewisse Rahmen abzustecken\, die dann gemeinsam diskutiert\, erkundet und mitunter auch zurückgelassen werden\, und weniger darin\, musikalische Skulpturen zu bauen\, die es möglichst exakt zu reproduzieren gilt. Das komponierte\, mitunter detailliert notierte\, Material dient also in erster Linie als Ausgangspunkt bzw. Einstieg in ein Netzwerk an Zusammenhängen und ist für sich allein noch lange nicht „das Stück“. Dieses Stück entsteht im Prozess der entwickelnden Variation des Materials\, welches von Mal zu Mal unterschiedlich verstanden\, angegangen und gelesen werden kann. Stilistisch ist die Musik von verschiedenen Traditionen inspiriert und informiert\, kommt aber eindeutig aus einem Jazz-Zugang zum gemeinsamen Musikmachen\, während keine vordergründige Anlehnung an konkrete Vorbilder (zumindest nicht beabsichtigt)\, sondern eher die Synthese eines eigenständigen Klangs angestrebt wird.\nDie Musik lässt sehr viel Freiraum zur individuellen Gestaltung und die vielseitigen musikalischen Interessen der Bandmitglieder von Jazz(-verwandter) über zeitgenössische\, experimentelle\, improvisierte\, europäische klassische Musik etc. sind eingeladen\, ihren Weg in das gemeinsame Musizieren finden. Trotzdem bleiben die Stücke meistens\, nach außen von Aufführung zu Aufführung variierend mehr oder weniger offensichtlich\, als Referenz bestehen. Es handelt sich also insofern um größtenteils strukturbasierte Improvisation\, deren Ziel es allerdings nicht ist\, diese Struktur ständig vordergründig zu markieren oder aufzuzeigen. Das Resultat hat oft einen quasi „durchkomponierten“ Charakter\, vielleicht einer improvisatorisch entwickelnden musikalischen Prosa\, deren Gliederung nicht immer offensichtlich ist. Die grundsätzliche Idee bleibt es\, ein Stück Musik unabhängig vom Grad der Fixierung auf dem Papier als nicht (ab)geschlossen zu verstehen\, seine wandelbare Vielgestaltigkeit (an-) zu erkennen und auf seine verschiedenen Möglichkeiten und Unmöglichkeiten hin zu erkunden.\nFür die\, die das schon wissen\, ist es nichts Neues und es ist auch klar\, dass es das schon lange gibt. Für manche sind diese Gedanken aber vielleicht neu und möglicherweise sogar interessant. Um ein besseres (Ab)Bild davon zu erleben\, wovon hier so ausführlich geschrieben wurde\, kommen Sie in möglichst viele Konzerte des Trios! \nPresse Review\nConcerto Magazine:\n„Der Vibraphonist und Komponist Tobias Meissl überrascht mit seinem Debut-Album „Mr. Resolved“ die eingefleischte Jazz-Szene. […] [Er] beweist mit einem inspirierten\, variantenreichen und vor allem eigenständigen Klang\, welche Möglichkeiten er zu nutzen weiß.“
URL:https://www.grazjazz.at/event/tobias-meissl-trio/
LOCATION:Orpheum Graz\, Orpheumgasse 8\, Graz\, Steiermark\, 8020\, Österreich
CATEGORIES:2025
ATTACH;FMTTYPE=image/jpeg:https://www.grazjazz.at/wp-content/uploads/2025/03/Tobias_Meissl_Trio_quer_c_Michael_Acker_7411f77b79748157_1.jpg
ORGANIZER;CN="Jazzwerkstatt%20Graz":MAILTO:info1@jazzwerkstattgraz.com
GEO:47.07241;15.43005
X-APPLE-STRUCTURED-LOCATION;VALUE=URI;X-ADDRESS=Orpheum Graz Orpheumgasse 8 Graz Steiermark 8020 Österreich;X-APPLE-RADIUS=500;X-TITLE=Orpheumgasse 8:geo:15.43005,47.07241
END:VEVENT
BEGIN:VEVENT
DTSTART;TZID=Europe/Berlin:20250509T213000
DTEND;TZID=Europe/Berlin:20250509T213000
DTSTAMP:20260423T212059
CREATED:20250305T131829Z
LAST-MODIFIED:20250305T132454Z
UID:6460-1746826200-1746826200@www.grazjazz.at
SUMMARY:NIKLOUDS - „RESILIENCE“
DESCRIPTION:Nik Holler – sax\,\nSimon Raab – pno\,\nTobias Vedovelli – bs\,\nMatheus Jardim – dr \n„RESILIENCE“ ist ein losgelöstes Jazz-Album des talentierten NIKLOUDS 4tet\, das durch seine Vielseitigkeit und Tiefe überzeugt. Zu hören ist melodischer und experimenteller zeitgenössischer Jazz sowie Hip-Hop mit Lo-Fi-Beats. Improvisatorische Elemente sind verwoben mit harmonischen Kompositionen und fusionieren mit virtuoser Instrumentierung zu einer charmanten Ästhetik. \nNiklouds ist meistens und diesmal ein Vierergespann\, bestehend aus Simon Raab (Tasteninstrumente)\, Tobias Vedovelli (Kontrabass)\, Matheus Jardim (Schlagzeug\, Becken) und dem Gründer der Band Nikolaus Holler (Komposition\, Holzblasinstrumente). Vor dem Album “RESILIENCE” beschäftigte Holler sich mit Lo-Fi/Hip-Hop und wurde damit über zwölf Millionen Mal gestreamt\, doch Streams sind für den 30-Jährigen offensichtlich nicht alles. Er sehnte sich nach dieser Phase nach einer organischen Band und so kam es zum Niklouds 4tet.  \nDas Ergebnis ist ein klangvoller zeitgenössischer Jazz\, dessen Geschwindigkeit ebenso variiert wie die Länge der einzelnen Stücke. Saxophon\, Schlagzeug\, Klavier und Kontrabass verschmelzen zu einem harmonischen Ganzen\, das sich traut\, frei und unkonventionell zu sein. Energiegeladen und melodisch.
URL:https://www.grazjazz.at/event/niklouds/
LOCATION:Orpheum Graz\, Orpheumgasse 8\, Graz\, Steiermark\, 8020\, Österreich
CATEGORIES:2025
ATTACH;FMTTYPE=image/jpeg:https://www.grazjazz.at/wp-content/uploads/2025/03/C-ronja-fabian-photo-COMPOSTITIOHN-3669.jpg
ORGANIZER;CN="Jazzwerkstatt%20Graz":MAILTO:info1@jazzwerkstattgraz.com
GEO:47.07241;15.43005
X-APPLE-STRUCTURED-LOCATION;VALUE=URI;X-ADDRESS=Orpheum Graz Orpheumgasse 8 Graz Steiermark 8020 Österreich;X-APPLE-RADIUS=500;X-TITLE=Orpheumgasse 8:geo:15.43005,47.07241
END:VEVENT
BEGIN:VEVENT
DTSTART;TZID=Europe/Berlin:20250510T200000
DTEND;TZID=Europe/Berlin:20250510T200000
DTSTAMP:20260423T212059
CREATED:20250305T132457Z
LAST-MODIFIED:20250305T133003Z
UID:6464-1746907200-1746907200@www.grazjazz.at
SUMMARY:SOUND BAKERY
DESCRIPTION:Yuliya Kupryianava – git\,\nAndrea Cardao – sax\,\nJean-Baptiste Rousseaux – trpt\,\nKonrad Waldert – b\,\nGianbattista DiGenio – d \nSound bakery feat. Andrea Cardone\n“The process of making music reminds me of baking. You gather the ingredients\, try out a recipe\, taste the result\, and then think about how to improve it for next time. You master the preparation techniques\, experiment with different shapes and flavors\, and slowly learn what you like best – just as you do when you compose\, arrange\, and improvise” “Sound Bakery” is a new ensemble led by Yuliya Kupryianava\, alongside her colleagues: trumpeter Jean-Baptiste Rousseaux\, bassist Konrad Waldert\, and drummer Gianbattista di Genio. For this special occasion\, Italian saxophonist Andrea Cardone will join the quartet\, bringing the “taste” of the Roman jazz scene to Graz.\nAt the concert\, the audience will hear Yuliya Kupryianava’s original compositions\, written specifically for the evening\, as well as works by renowned artists such as Carla Bley\, Richard Galliano and Jan Lundgren. The music will be complemented by poetry in different languages\, bridging the tunes and creating an additional storyline.
URL:https://www.grazjazz.at/event/sound-bakery/
LOCATION:Orpheum Graz\, Orpheumgasse 8\, Graz\, Steiermark\, 8020\, Österreich
CATEGORIES:2025
ATTACH;FMTTYPE=image/jpeg:https://www.grazjazz.at/wp-content/uploads/2025/03/sound_bakery_quer-cDerek-Plunkie.jpg
ORGANIZER;CN="Jazzwerkstatt%20Graz":MAILTO:info1@jazzwerkstattgraz.com
GEO:47.07241;15.43005
X-APPLE-STRUCTURED-LOCATION;VALUE=URI;X-ADDRESS=Orpheum Graz Orpheumgasse 8 Graz Steiermark 8020 Österreich;X-APPLE-RADIUS=500;X-TITLE=Orpheumgasse 8:geo:15.43005,47.07241
END:VEVENT
BEGIN:VEVENT
DTSTART;TZID=Europe/Berlin:20250510T213000
DTEND;TZID=Europe/Berlin:20250510T213000
DTSTAMP:20260423T212059
CREATED:20250305T133009Z
LAST-MODIFIED:20250305T133549Z
UID:6468-1746912600-1746912600@www.grazjazz.at
SUMMARY:WINDOWS WIDE OPEN
DESCRIPTION:Matthew Halpin – tenor sax\, flöte\,\nEmily Steward – violine\,\nCornelia Perwein – cello\,\nSimon Jermyn – bass\, guitar\,\nMatheus Jardim – drums\,\nJakob Helling – rhodes\, mellotron\, trumpet\, flügelhorn \nWINDOWS WIDE OPEN ist ein Kammermusikensemble\, das neue Werke des Komponisten Jakob Helling spielt. Staub der sich im Laufe der Zeit auf der Kammermusik gesammelt hat\, wird bei weit geöffnetem Fenster vom Wind aufgewirbelt und bald von frischer Luft ersetzt. Die Musiker dieses Ensembles fühlen sich jede*r auf ganz eigene Art und Weise zwischen den Welten zu Hause. Freut Euch auf ein nicht besonders lautes\, aber dafür nicht weniger intensives Musikerlebnis. 
URL:https://www.grazjazz.at/event/windows-wide-open/
LOCATION:Orpheum Graz\, Orpheumgasse 8\, Graz\, Steiermark\, 8020\, Österreich
CATEGORIES:2025
ATTACH;FMTTYPE=image/jpeg:https://www.grazjazz.at/wp-content/uploads/2025/03/windows-wide-open-4x3-©v.l.o.n.r.u.jpg
ORGANIZER;CN="Jazzwerkstatt%20Graz":MAILTO:info1@jazzwerkstattgraz.com
GEO:47.07241;15.43005
X-APPLE-STRUCTURED-LOCATION;VALUE=URI;X-ADDRESS=Orpheum Graz Orpheumgasse 8 Graz Steiermark 8020 Österreich;X-APPLE-RADIUS=500;X-TITLE=Orpheumgasse 8:geo:15.43005,47.07241
END:VEVENT
BEGIN:VEVENT
DTSTART;TZID=Europe/Berlin:20250516T200000
DTEND;TZID=Europe/Berlin:20250516T200000
DTSTAMP:20260423T212059
CREATED:20250305T133551Z
LAST-MODIFIED:20250305T134212Z
UID:6472-1747425600-1747425600@www.grazjazz.at
SUMMARY:DUO RESONANCE
DESCRIPTION:Emma Robatjazy – voc\,\nErik Asatrian – piano \nWINDOWS WIDE OPEN ist ein Kammermusikensemble\, das neue Werke des Komponisten Jakob Helling spielt. Staub der sich im Laufe der Zeit auf der Kammermusik gesammelt hat\, wird bei weit geöffnetem Fenster vom Wind aufgewirbelt und bald von frischer Luft ersetzt. Die Musiker dieses Ensembles fühlen sich jede*r auf ganz eigene Art und Weise zwischen den Welten zu Hause. Freut Euch auf ein nicht besonders lautes\, aber dafür nicht weniger intensives Musikerlebnis. 
URL:https://www.grazjazz.at/event/duo-resonance/
LOCATION:Orpheum Graz\, Orpheumgasse 8\, Graz\, Steiermark\, 8020\, Österreich
CATEGORIES:2025
ATTACH;FMTTYPE=image/jpeg:https://www.grazjazz.at/wp-content/uploads/2025/03/duo-resonance-©Andreas-Puerzelmaier.jpg
ORGANIZER;CN="Jazzwerkstatt%20Graz":MAILTO:info1@jazzwerkstattgraz.com
GEO:47.07241;15.43005
X-APPLE-STRUCTURED-LOCATION;VALUE=URI;X-ADDRESS=Orpheum Graz Orpheumgasse 8 Graz Steiermark 8020 Österreich;X-APPLE-RADIUS=500;X-TITLE=Orpheumgasse 8:geo:15.43005,47.07241
END:VEVENT
BEGIN:VEVENT
DTSTART;TZID=Europe/Berlin:20250516T213000
DTEND;TZID=Europe/Berlin:20250516T213000
DTSTAMP:20260423T212059
CREATED:20250305T134215Z
LAST-MODIFIED:20250305T134511Z
UID:6476-1747431000-1747431000@www.grazjazz.at
SUMMARY:Gerhard Ornig & Sina Shaari
DESCRIPTION:Gerhard Ornig – Trompete\, Flügelhorn\,\nSina Shaari – Oud\, Gitarre \nSchon alleine die exzeptionelle Zusammensetzung dieses Duos durch Oud/Gitarre und Trompete/Flügelhorn verspricht Neuartigkeit\, zarter Ausgewogenheit und ebenso weit ausgedehnte Intimität.\nFür die beiden Protagonisten Gerhard Ornig (AUT – Trompete\, Flügelhorn) und Sina Shaari (IRN/AUT – Oud\, Gitarre) begann diese musikalische Reise vor mehr als 15 Jahren bereits seit Anbeginn ihrer Freundschaft. Einst sich in der Schule getroffen\, in verschiedensten Ensembles gemeinsam musiziert\, improvisiert und interagiert\, verbinden sie heute in ihrer Musik die verschiedensten Welten ihrer Heimat und Seelenheimat\, das von ihrem musikalischen Schaffensdrang unter- oder übermalt wird.\nKompositionen\, die in unterschiedlichen Musikkulturen\, angefangen von der persischen klassischen Musik bis hin zum Jazz verwurzelt sind\, sich aber grenzenlos dem Aktuellem widmen. Abgerundet durch ständige Interaktion\, mit viel Raum für Improvisation\, welche die vielschichtige Musik belebt\, würzt aber auch verfeinert.\nSo verspricht dieses Duo ein intensives\, farbenreiches Spektrum der Musik zu präsentieren\, welches man in dieser Konstellation wohl eher selten zu hören und sehen bekommt. Einzigartigkeit in seiner besten Ausprägung ist garantiert. \nTrailer:\nhttps://www.youtube.com/watch?v=BVrBu3fmuj4 \nDuo Performance “Amsterdam Blue Note”\nhttps://www.youtube.com/watch?v=BVrBu3fmuj4\nhttps://www.sina-shaari.com/
URL:https://www.grazjazz.at/event/gerhard-ornig-sina-shaari/
LOCATION:Orpheum Graz\, Orpheumgasse 8\, Graz\, Steiermark\, 8020\, Österreich
CATEGORIES:2025
ATTACH;FMTTYPE=image/jpeg:https://www.grazjazz.at/wp-content/uploads/2025/03/Sina-Shaari-Gerhard-Ornig-copyright-by-Lucija-Novak_.jpg
ORGANIZER;CN="Jazzwerkstatt%20Graz":MAILTO:info1@jazzwerkstattgraz.com
GEO:47.07241;15.43005
X-APPLE-STRUCTURED-LOCATION;VALUE=URI;X-ADDRESS=Orpheum Graz Orpheumgasse 8 Graz Steiermark 8020 Österreich;X-APPLE-RADIUS=500;X-TITLE=Orpheumgasse 8:geo:15.43005,47.07241
END:VEVENT
BEGIN:VEVENT
DTSTART;TZID=Europe/Berlin:20250523T200000
DTEND;TZID=Europe/Berlin:20250523T200000
DTSTAMP:20260423T212059
CREATED:20250305T134514Z
LAST-MODIFIED:20250305T134825Z
UID:6480-1748030400-1748030400@www.grazjazz.at
SUMMARY:LILAMORS
DESCRIPTION:Ana Čop – vocals\,\nThilo Seevers – piano\,\nJaka Arh – live electronics
URL:https://www.grazjazz.at/event/lilamors/
LOCATION:Orpheum Graz\, Orpheumgasse 8\, Graz\, Steiermark\, 8020\, Österreich
CATEGORIES:2025
ATTACH;FMTTYPE=image/jpeg:https://www.grazjazz.at/wp-content/uploads/2025/03/LILAMORS-GertaXhaferaj.jpg
ORGANIZER;CN="Jazzwerkstatt%20Graz":MAILTO:info1@jazzwerkstattgraz.com
GEO:47.07241;15.43005
X-APPLE-STRUCTURED-LOCATION;VALUE=URI;X-ADDRESS=Orpheum Graz Orpheumgasse 8 Graz Steiermark 8020 Österreich;X-APPLE-RADIUS=500;X-TITLE=Orpheumgasse 8:geo:15.43005,47.07241
END:VEVENT
BEGIN:VEVENT
DTSTART;TZID=Europe/Berlin:20250523T213000
DTEND;TZID=Europe/Berlin:20250523T213000
DTSTAMP:20260423T212059
CREATED:20250305T134828Z
LAST-MODIFIED:20250305T135239Z
UID:6484-1748035800-1748035800@www.grazjazz.at
SUMMARY:VAZDAN
DESCRIPTION:Luka Zabric –  alto saxophone\,\nUrban Megušar – cello\,\nIvar Roban Križić –  double bass\,\nTin Džaferović – double bass\,\nLuis André Carneiro de Oliveira – drums\, percussion\, vibraphone\,\nNikola Vuković – trumpet\, prepared pocket trumpet\, composition\,\nPiotr Lipowicz – film editing \nVazdan was originally a musical suite I wrote. However\, while I was finishing the composing process\, I stumbled upon a digitised camera footage recorded by my great-grandfather\, Dušan Varda\, in 1930s. The shots were spontaneous\, weird\, very personal\, and of course\, silent. Each of them seemed to crave for the music. I instantly knew I want to pair it with the suite. After a lot of work with Piotr LIpowicz\, it was made into a 36-minute-long film.\nHowever for live performances\, we believe that attempting to recreate and play the music directly to the film is constraining and counterproductive to the improvised nature of the music\, so an even more ambitious idea was born.\nTo decompose both the music and the film and attempt to put it back together live on stage\, leaving space for both the film and the music to change\, through acts of spontaneity and improvisation. In that way bringing the music and the film even closer together and hopefully presenting something new and fresh each time. \nLink:\nhttps://www.youtube.com/watch?v=MhcwSf5Xs08&t=201s
URL:https://www.grazjazz.at/event/vazdan/
LOCATION:Orpheum Graz\, Orpheumgasse 8\, Graz\, Steiermark\, 8020\, Österreich
CATEGORIES:2025
ATTACH;FMTTYPE=image/jpeg:https://www.grazjazz.at/wp-content/uploads/2025/03/Vazdan-Cover.jpg
ORGANIZER;CN="Jazzwerkstatt%20Graz":MAILTO:info1@jazzwerkstattgraz.com
GEO:47.07241;15.43005
X-APPLE-STRUCTURED-LOCATION;VALUE=URI;X-ADDRESS=Orpheum Graz Orpheumgasse 8 Graz Steiermark 8020 Österreich;X-APPLE-RADIUS=500;X-TITLE=Orpheumgasse 8:geo:15.43005,47.07241
END:VEVENT
END:VCALENDAR